BEGIN:VCALENDAR
VERSION:2.0
PRODID:-//Self-Realization Fellowship Lake Shrine - ECPv6.6.1//NONSGML v1.0//EN
CALSCALE:GREGORIAN
METHOD:PUBLISH
X-WR-CALNAME:Self-Realization Fellowship Lake Shrine
X-ORIGINAL-URL:https://staging.lakeshrine.org
X-WR-CALDESC:Events for Self-Realization Fellowship Lake Shrine
REFRESH-INTERVAL;VALUE=DURATION:PT1H
X-Robots-Tag:noindex
X-PUBLISHED-TTL:PT1H
BEGIN:VTIMEZONE
TZID:America/Los_Angeles
BEGIN:DAYLIGHT
TZOFFSETFROM:-0800
TZOFFSETTO:-0700
TZNAME:PDT
DTSTART:20280312T100000
END:DAYLIGHT
BEGIN:STANDARD
TZOFFSETFROM:-0700
TZOFFSETTO:-0800
TZNAME:PST
DTSTART:20281105T090000
END:STANDARD
END:VTIMEZONE
BEGIN:VEVENT
DTSTART;VALUE=DATE:20280409
DTEND;VALUE=DATE:20280410
DTSTAMP:20260425T083626
CREATED:20240524T210958Z
LAST-MODIFIED:20240605T204542Z
UID:10004023-1838851200-1838937599@staging.lakeshrine.org
SUMMARY:Sunday Events
DESCRIPTION:Inspirational Service: 9 AM – 10 AM \nTemple gate opens at 8:15 AM.\nParking is available ONLY at the Temple level.\nNo Sunday School offered for this service \nInspirational Service: 11 AM – 12 PM\n\nParking is available at the Temple and Lake from 10:15 AM.\nSunday School is offered during this service.\nQuestions: https://staging.lakeshrine.org/sunday-school/ \nThe Meditation Gardens open at noon\, no reservations required! \n  \nCurious about meditation?\nTry a 30-minute guided meditation in the Windmill Chapel at 2 PM \nVisit our meditation gardens during the week and bring a friend! Our “reserve to visit” guest program is free and keeps the gardens safe and sacred. To reserve:  https://staging.lakeshrine.org/guest-agreements/ \n  \n  \nEvening Meditation with Devotional Chanting: 6 PM – 9 PM \n \n  \n5:40 PM Energization Exercises in the Temple Courtyard\n6 PM Meditation Begins\n9 PM Meditation Ends \n  \n  \nNew to Lake Shrine?\nWelcome!\nWe would love to connect with you!\nStop by the Welcome Table in the foyer!\nWe can answer your questions!
URL:https://staging.lakeshrine.org/event/sunday-events-with-pics-draft-2/2028-04-09/
LOCATION:Lake Shrine Temple\, Lake Shrine 17080 Sunset Blvd.\, Pacific Palisades\, CA\, 90272\, United States
CATEGORIES:Meditations & Inspirational Services
END:VEVENT
BEGIN:VEVENT
DTSTART;VALUE=DATE:20280410
DTEND;VALUE=DATE:20280411
DTSTAMP:20260425T083626
CREATED:20230315T180157Z
LAST-MODIFIED:20240515T195237Z
UID:10002046-1838937600-1839023999@staging.lakeshrine.org
SUMMARY:Lake Shrine Closed
DESCRIPTION:Lake Shrine is closed today. \nReserve to visit: https://staging.lakeshrine.org/guest-agreements/ \nOr join us on Sunday morning in our temple!  Then meditate in the gardens! \nNo reservations are required on Sunday mornings!
URL:https://staging.lakeshrine.org/event/lake-shrine-grounds-and-temple-closed/2028-04-10/
CATEGORIES:Closures
END:VEVENT
BEGIN:VEVENT
DTSTART;VALUE=DATE:20280411
DTEND;VALUE=DATE:20280412
DTSTAMP:20260425T083626
CREATED:20230315T180157Z
LAST-MODIFIED:20240515T195237Z
UID:10002047-1839024000-1839110399@staging.lakeshrine.org
SUMMARY:Lake Shrine Closed
DESCRIPTION:Lake Shrine is closed today. \nReserve to visit: https://staging.lakeshrine.org/guest-agreements/ \nOr join us on Sunday morning in our temple!  Then meditate in the gardens! \nNo reservations are required on Sunday mornings!
URL:https://staging.lakeshrine.org/event/lake-shrine-grounds-and-temple-closed/2028-04-11/
CATEGORIES:Closures
END:VEVENT
BEGIN:VEVENT
DTSTART;VALUE=DATE:20280412
DTEND;VALUE=DATE:20280413
DTSTAMP:20260425T083626
CREATED:20240521T184328Z
LAST-MODIFIED:20240521T184328Z
UID:10004890-1839110400-1839196799@staging.lakeshrine.org
SUMMARY:Reserve to Visit
DESCRIPTION:Come be our guest today! https://staging.lakeshrine.org/meditation-gardens/ \nReservations open every Saturday at 10 AM PST for the week ahead. \nStart your reservation here:   https://staging.lakeshrine.org/guest-agreements/ \nComplete the steps. \nYou will receive an email confirmation. \nWhy reservations? https://staging.lakeshrine.org/why-do-we-require-reservations/
URL:https://staging.lakeshrine.org/event/reserve-to-visit/2028-04-12/
CATEGORIES:Meditation Gardens
END:VEVENT
BEGIN:VEVENT
DTSTART;VALUE=DATE:20280413
DTEND;VALUE=DATE:20280414
DTSTAMP:20260425T083626
CREATED:20240521T184328Z
LAST-MODIFIED:20240521T184328Z
UID:10004891-1839196800-1839283199@staging.lakeshrine.org
SUMMARY:Reserve to Visit
DESCRIPTION:Come be our guest today! https://staging.lakeshrine.org/meditation-gardens/ \nReservations open every Saturday at 10 AM PST for the week ahead. \nStart your reservation here:   https://staging.lakeshrine.org/guest-agreements/ \nComplete the steps. \nYou will receive an email confirmation. \nWhy reservations? https://staging.lakeshrine.org/why-do-we-require-reservations/
URL:https://staging.lakeshrine.org/event/reserve-to-visit/2028-04-13/
CATEGORIES:Meditation Gardens
END:VEVENT
BEGIN:VEVENT
DTSTART;VALUE=DATE:20280414
DTEND;VALUE=DATE:20280415
DTSTAMP:20260425T083626
CREATED:20240521T184328Z
LAST-MODIFIED:20240521T184328Z
UID:10004892-1839283200-1839369599@staging.lakeshrine.org
SUMMARY:Reserve to Visit
DESCRIPTION:Come be our guest today! https://staging.lakeshrine.org/meditation-gardens/ \nReservations open every Saturday at 10 AM PST for the week ahead. \nStart your reservation here:   https://staging.lakeshrine.org/guest-agreements/ \nComplete the steps. \nYou will receive an email confirmation. \nWhy reservations? https://staging.lakeshrine.org/why-do-we-require-reservations/
URL:https://staging.lakeshrine.org/event/reserve-to-visit/2028-04-14/
CATEGORIES:Meditation Gardens
END:VEVENT
BEGIN:VEVENT
DTSTART;VALUE=DATE:20280415
DTEND;VALUE=DATE:20280416
DTSTAMP:20260425T083626
CREATED:20240521T184328Z
LAST-MODIFIED:20240521T184328Z
UID:10004893-1839369600-1839455999@staging.lakeshrine.org
SUMMARY:Reserve to Visit
DESCRIPTION:Come be our guest today! https://staging.lakeshrine.org/meditation-gardens/ \nReservations open every Saturday at 10 AM PST for the week ahead. \nStart your reservation here:   https://staging.lakeshrine.org/guest-agreements/ \nComplete the steps. \nYou will receive an email confirmation. \nWhy reservations? https://staging.lakeshrine.org/why-do-we-require-reservations/
URL:https://staging.lakeshrine.org/event/reserve-to-visit/2028-04-15/
CATEGORIES:Meditation Gardens
END:VEVENT
BEGIN:VEVENT
DTSTART;VALUE=DATE:20280416
DTEND;VALUE=DATE:20280417
DTSTAMP:20260425T083626
CREATED:20240524T210958Z
LAST-MODIFIED:20240605T204542Z
UID:10004024-1839456000-1839542399@staging.lakeshrine.org
SUMMARY:Sunday Events
DESCRIPTION:Inspirational Service: 9 AM – 10 AM \nTemple gate opens at 8:15 AM.\nParking is available ONLY at the Temple level.\nNo Sunday School offered for this service \nInspirational Service: 11 AM – 12 PM\n\nParking is available at the Temple and Lake from 10:15 AM.\nSunday School is offered during this service.\nQuestions: https://staging.lakeshrine.org/sunday-school/ \nThe Meditation Gardens open at noon\, no reservations required! \n  \nCurious about meditation?\nTry a 30-minute guided meditation in the Windmill Chapel at 2 PM \nVisit our meditation gardens during the week and bring a friend! Our “reserve to visit” guest program is free and keeps the gardens safe and sacred. To reserve:  https://staging.lakeshrine.org/guest-agreements/ \n  \n  \nEvening Meditation with Devotional Chanting: 6 PM – 9 PM \n \n  \n5:40 PM Energization Exercises in the Temple Courtyard\n6 PM Meditation Begins\n9 PM Meditation Ends \n  \n  \nNew to Lake Shrine?\nWelcome!\nWe would love to connect with you!\nStop by the Welcome Table in the foyer!\nWe can answer your questions!
URL:https://staging.lakeshrine.org/event/sunday-events-with-pics-draft-2/2028-04-16/
LOCATION:Lake Shrine Temple\, Lake Shrine 17080 Sunset Blvd.\, Pacific Palisades\, CA\, 90272\, United States
CATEGORIES:Meditations & Inspirational Services
END:VEVENT
BEGIN:VEVENT
DTSTART;VALUE=DATE:20280417
DTEND;VALUE=DATE:20280418
DTSTAMP:20260425T083626
CREATED:20230315T180157Z
LAST-MODIFIED:20240515T195237Z
UID:10002048-1839542400-1839628799@staging.lakeshrine.org
SUMMARY:Lake Shrine Closed
DESCRIPTION:Lake Shrine is closed today. \nReserve to visit: https://staging.lakeshrine.org/guest-agreements/ \nOr join us on Sunday morning in our temple!  Then meditate in the gardens! \nNo reservations are required on Sunday mornings!
URL:https://staging.lakeshrine.org/event/lake-shrine-grounds-and-temple-closed/2028-04-17/
CATEGORIES:Closures
END:VEVENT
BEGIN:VEVENT
DTSTART;VALUE=DATE:20280418
DTEND;VALUE=DATE:20280419
DTSTAMP:20260425T083626
CREATED:20230315T180157Z
LAST-MODIFIED:20240515T195237Z
UID:10002049-1839628800-1839715199@staging.lakeshrine.org
SUMMARY:Lake Shrine Closed
DESCRIPTION:Lake Shrine is closed today. \nReserve to visit: https://staging.lakeshrine.org/guest-agreements/ \nOr join us on Sunday morning in our temple!  Then meditate in the gardens! \nNo reservations are required on Sunday mornings!
URL:https://staging.lakeshrine.org/event/lake-shrine-grounds-and-temple-closed/2028-04-18/
CATEGORIES:Closures
END:VEVENT
BEGIN:VEVENT
DTSTART;VALUE=DATE:20280419
DTEND;VALUE=DATE:20280420
DTSTAMP:20260425T083626
CREATED:20240521T184328Z
LAST-MODIFIED:20240521T184328Z
UID:10004894-1839715200-1839801599@staging.lakeshrine.org
SUMMARY:Reserve to Visit
DESCRIPTION:Come be our guest today! https://staging.lakeshrine.org/meditation-gardens/ \nReservations open every Saturday at 10 AM PST for the week ahead. \nStart your reservation here:   https://staging.lakeshrine.org/guest-agreements/ \nComplete the steps. \nYou will receive an email confirmation. \nWhy reservations? https://staging.lakeshrine.org/why-do-we-require-reservations/
URL:https://staging.lakeshrine.org/event/reserve-to-visit/2028-04-19/
CATEGORIES:Meditation Gardens
END:VEVENT
BEGIN:VEVENT
DTSTART;VALUE=DATE:20280420
DTEND;VALUE=DATE:20280421
DTSTAMP:20260425T083626
CREATED:20240521T184328Z
LAST-MODIFIED:20240521T184328Z
UID:10004895-1839801600-1839887999@staging.lakeshrine.org
SUMMARY:Reserve to Visit
DESCRIPTION:Come be our guest today! https://staging.lakeshrine.org/meditation-gardens/ \nReservations open every Saturday at 10 AM PST for the week ahead. \nStart your reservation here:   https://staging.lakeshrine.org/guest-agreements/ \nComplete the steps. \nYou will receive an email confirmation. \nWhy reservations? https://staging.lakeshrine.org/why-do-we-require-reservations/
URL:https://staging.lakeshrine.org/event/reserve-to-visit/2028-04-20/
CATEGORIES:Meditation Gardens
END:VEVENT
BEGIN:VEVENT
DTSTART;VALUE=DATE:20280421
DTEND;VALUE=DATE:20280422
DTSTAMP:20260425T083626
CREATED:20240521T184328Z
LAST-MODIFIED:20240521T184328Z
UID:10004896-1839888000-1839974399@staging.lakeshrine.org
SUMMARY:Reserve to Visit
DESCRIPTION:Come be our guest today! https://staging.lakeshrine.org/meditation-gardens/ \nReservations open every Saturday at 10 AM PST for the week ahead. \nStart your reservation here:   https://staging.lakeshrine.org/guest-agreements/ \nComplete the steps. \nYou will receive an email confirmation. \nWhy reservations? https://staging.lakeshrine.org/why-do-we-require-reservations/
URL:https://staging.lakeshrine.org/event/reserve-to-visit/2028-04-21/
CATEGORIES:Meditation Gardens
END:VEVENT
BEGIN:VEVENT
DTSTART;VALUE=DATE:20280422
DTEND;VALUE=DATE:20280423
DTSTAMP:20260425T083626
CREATED:20240521T184328Z
LAST-MODIFIED:20240521T184328Z
UID:10004897-1839974400-1840060799@staging.lakeshrine.org
SUMMARY:Reserve to Visit
DESCRIPTION:Come be our guest today! https://staging.lakeshrine.org/meditation-gardens/ \nReservations open every Saturday at 10 AM PST for the week ahead. \nStart your reservation here:   https://staging.lakeshrine.org/guest-agreements/ \nComplete the steps. \nYou will receive an email confirmation. \nWhy reservations? https://staging.lakeshrine.org/why-do-we-require-reservations/
URL:https://staging.lakeshrine.org/event/reserve-to-visit/2028-04-22/
CATEGORIES:Meditation Gardens
END:VEVENT
BEGIN:VEVENT
DTSTART;VALUE=DATE:20280423
DTEND;VALUE=DATE:20280424
DTSTAMP:20260425T083626
CREATED:20240524T210958Z
LAST-MODIFIED:20240605T204542Z
UID:10004025-1840060800-1840147199@staging.lakeshrine.org
SUMMARY:Sunday Events
DESCRIPTION:Inspirational Service: 9 AM – 10 AM \nTemple gate opens at 8:15 AM.\nParking is available ONLY at the Temple level.\nNo Sunday School offered for this service \nInspirational Service: 11 AM – 12 PM\n\nParking is available at the Temple and Lake from 10:15 AM.\nSunday School is offered during this service.\nQuestions: https://staging.lakeshrine.org/sunday-school/ \nThe Meditation Gardens open at noon\, no reservations required! \n  \nCurious about meditation?\nTry a 30-minute guided meditation in the Windmill Chapel at 2 PM \nVisit our meditation gardens during the week and bring a friend! Our “reserve to visit” guest program is free and keeps the gardens safe and sacred. To reserve:  https://staging.lakeshrine.org/guest-agreements/ \n  \n  \nEvening Meditation with Devotional Chanting: 6 PM – 9 PM \n \n  \n5:40 PM Energization Exercises in the Temple Courtyard\n6 PM Meditation Begins\n9 PM Meditation Ends \n  \n  \nNew to Lake Shrine?\nWelcome!\nWe would love to connect with you!\nStop by the Welcome Table in the foyer!\nWe can answer your questions!
URL:https://staging.lakeshrine.org/event/sunday-events-with-pics-draft-2/2028-04-23/
LOCATION:Lake Shrine Temple\, Lake Shrine 17080 Sunset Blvd.\, Pacific Palisades\, CA\, 90272\, United States
CATEGORIES:Meditations & Inspirational Services
END:VEVENT
BEGIN:VEVENT
DTSTART;VALUE=DATE:20280424
DTEND;VALUE=DATE:20280425
DTSTAMP:20260425T083626
CREATED:20230315T180157Z
LAST-MODIFIED:20240515T195237Z
UID:10002050-1840147200-1840233599@staging.lakeshrine.org
SUMMARY:Lake Shrine Closed
DESCRIPTION:Lake Shrine is closed today. \nReserve to visit: https://staging.lakeshrine.org/guest-agreements/ \nOr join us on Sunday morning in our temple!  Then meditate in the gardens! \nNo reservations are required on Sunday mornings!
URL:https://staging.lakeshrine.org/event/lake-shrine-grounds-and-temple-closed/2028-04-24/
CATEGORIES:Closures
END:VEVENT
BEGIN:VEVENT
DTSTART;VALUE=DATE:20280425
DTEND;VALUE=DATE:20280426
DTSTAMP:20260425T083626
CREATED:20230315T180157Z
LAST-MODIFIED:20240515T195237Z
UID:10002051-1840233600-1840319999@staging.lakeshrine.org
SUMMARY:Lake Shrine Closed
DESCRIPTION:Lake Shrine is closed today. \nReserve to visit: https://staging.lakeshrine.org/guest-agreements/ \nOr join us on Sunday morning in our temple!  Then meditate in the gardens! \nNo reservations are required on Sunday mornings!
URL:https://staging.lakeshrine.org/event/lake-shrine-grounds-and-temple-closed/2028-04-25/
CATEGORIES:Closures
END:VEVENT
BEGIN:VEVENT
DTSTART;TZID=America/Los_Angeles:20280425T190000
DTEND;TZID=America/Los_Angeles:20280425T210000
DTSTAMP:20260425T083626
CREATED:20240509T005646Z
LAST-MODIFIED:20240509T010129Z
UID:10003663-1840302000-1840309200@staging.lakeshrine.org
SUMMARY:Lake Shrine Kriyaban Disciples
DESCRIPTION:  \nWe are on Summer Recess!  Join us at Convocation! \n  \nParamahansa Yogananda\, photographed on August 20\, 1950\, at the dedication of Self-Realization Fellowship Lake Shrine\, Pacific Palisades\, CA. \n  \n  \n 
URL:https://staging.lakeshrine.org/event/lake-shrine-kriyaban-disciples-8/2028-04-25/
CATEGORIES:Meditations & Inspirational Services,Minister-led Events,Other Events
END:VEVENT
BEGIN:VEVENT
DTSTART;VALUE=DATE:20280426
DTEND;VALUE=DATE:20280427
DTSTAMP:20260425T083626
CREATED:20240521T184328Z
LAST-MODIFIED:20240521T184328Z
UID:10004898-1840320000-1840406399@staging.lakeshrine.org
SUMMARY:Reserve to Visit
DESCRIPTION:Come be our guest today! https://staging.lakeshrine.org/meditation-gardens/ \nReservations open every Saturday at 10 AM PST for the week ahead. \nStart your reservation here:   https://staging.lakeshrine.org/guest-agreements/ \nComplete the steps. \nYou will receive an email confirmation. \nWhy reservations? https://staging.lakeshrine.org/why-do-we-require-reservations/
URL:https://staging.lakeshrine.org/event/reserve-to-visit/2028-04-26/
CATEGORIES:Meditation Gardens
END:VEVENT
BEGIN:VEVENT
DTSTART;VALUE=DATE:20280427
DTEND;VALUE=DATE:20280428
DTSTAMP:20260425T083626
CREATED:20240521T184328Z
LAST-MODIFIED:20240521T184328Z
UID:10004899-1840406400-1840492799@staging.lakeshrine.org
SUMMARY:Reserve to Visit
DESCRIPTION:Come be our guest today! https://staging.lakeshrine.org/meditation-gardens/ \nReservations open every Saturday at 10 AM PST for the week ahead. \nStart your reservation here:   https://staging.lakeshrine.org/guest-agreements/ \nComplete the steps. \nYou will receive an email confirmation. \nWhy reservations? https://staging.lakeshrine.org/why-do-we-require-reservations/
URL:https://staging.lakeshrine.org/event/reserve-to-visit/2028-04-27/
CATEGORIES:Meditation Gardens
END:VEVENT
BEGIN:VEVENT
DTSTART;VALUE=DATE:20280428
DTEND;VALUE=DATE:20280429
DTSTAMP:20260425T083626
CREATED:20240521T184328Z
LAST-MODIFIED:20240521T184328Z
UID:10004900-1840492800-1840579199@staging.lakeshrine.org
SUMMARY:Reserve to Visit
DESCRIPTION:Come be our guest today! https://staging.lakeshrine.org/meditation-gardens/ \nReservations open every Saturday at 10 AM PST for the week ahead. \nStart your reservation here:   https://staging.lakeshrine.org/guest-agreements/ \nComplete the steps. \nYou will receive an email confirmation. \nWhy reservations? https://staging.lakeshrine.org/why-do-we-require-reservations/
URL:https://staging.lakeshrine.org/event/reserve-to-visit/2028-04-28/
CATEGORIES:Meditation Gardens
END:VEVENT
BEGIN:VEVENT
DTSTART;VALUE=DATE:20280429
DTEND;VALUE=DATE:20280430
DTSTAMP:20260425T083626
CREATED:20240521T184328Z
LAST-MODIFIED:20240521T184328Z
UID:10004901-1840579200-1840665599@staging.lakeshrine.org
SUMMARY:Reserve to Visit
DESCRIPTION:Come be our guest today! https://staging.lakeshrine.org/meditation-gardens/ \nReservations open every Saturday at 10 AM PST for the week ahead. \nStart your reservation here:   https://staging.lakeshrine.org/guest-agreements/ \nComplete the steps. \nYou will receive an email confirmation. \nWhy reservations? https://staging.lakeshrine.org/why-do-we-require-reservations/
URL:https://staging.lakeshrine.org/event/reserve-to-visit/2028-04-29/
CATEGORIES:Meditation Gardens
END:VEVENT
BEGIN:VEVENT
DTSTART;VALUE=DATE:20280430
DTEND;VALUE=DATE:20280501
DTSTAMP:20260425T083626
CREATED:20240524T210958Z
LAST-MODIFIED:20240605T204542Z
UID:10004026-1840665600-1840751999@staging.lakeshrine.org
SUMMARY:Sunday Events
DESCRIPTION:Inspirational Service: 9 AM – 10 AM \nTemple gate opens at 8:15 AM.\nParking is available ONLY at the Temple level.\nNo Sunday School offered for this service \nInspirational Service: 11 AM – 12 PM\n\nParking is available at the Temple and Lake from 10:15 AM.\nSunday School is offered during this service.\nQuestions: https://staging.lakeshrine.org/sunday-school/ \nThe Meditation Gardens open at noon\, no reservations required! \n  \nCurious about meditation?\nTry a 30-minute guided meditation in the Windmill Chapel at 2 PM \nVisit our meditation gardens during the week and bring a friend! Our “reserve to visit” guest program is free and keeps the gardens safe and sacred. To reserve:  https://staging.lakeshrine.org/guest-agreements/ \n  \n  \nEvening Meditation with Devotional Chanting: 6 PM – 9 PM \n \n  \n5:40 PM Energization Exercises in the Temple Courtyard\n6 PM Meditation Begins\n9 PM Meditation Ends \n  \n  \nNew to Lake Shrine?\nWelcome!\nWe would love to connect with you!\nStop by the Welcome Table in the foyer!\nWe can answer your questions!
URL:https://staging.lakeshrine.org/event/sunday-events-with-pics-draft-2/2028-04-30/
LOCATION:Lake Shrine Temple\, Lake Shrine 17080 Sunset Blvd.\, Pacific Palisades\, CA\, 90272\, United States
CATEGORIES:Meditations & Inspirational Services
END:VEVENT
BEGIN:VEVENT
DTSTART;VALUE=DATE:20280501
DTEND;VALUE=DATE:20280502
DTSTAMP:20260425T083626
CREATED:20230315T180157Z
LAST-MODIFIED:20240515T195237Z
UID:10002052-1840752000-1840838399@staging.lakeshrine.org
SUMMARY:Lake Shrine Closed
DESCRIPTION:Lake Shrine is closed today. \nReserve to visit: https://staging.lakeshrine.org/guest-agreements/ \nOr join us on Sunday morning in our temple!  Then meditate in the gardens! \nNo reservations are required on Sunday mornings!
URL:https://staging.lakeshrine.org/event/lake-shrine-grounds-and-temple-closed/2028-05-01/
CATEGORIES:Closures
END:VEVENT
BEGIN:VEVENT
DTSTART;VALUE=DATE:20280502
DTEND;VALUE=DATE:20280503
DTSTAMP:20260425T083626
CREATED:20230315T180157Z
LAST-MODIFIED:20240515T195237Z
UID:10002053-1840838400-1840924799@staging.lakeshrine.org
SUMMARY:Lake Shrine Closed
DESCRIPTION:Lake Shrine is closed today. \nReserve to visit: https://staging.lakeshrine.org/guest-agreements/ \nOr join us on Sunday morning in our temple!  Then meditate in the gardens! \nNo reservations are required on Sunday mornings!
URL:https://staging.lakeshrine.org/event/lake-shrine-grounds-and-temple-closed/2028-05-02/
CATEGORIES:Closures
END:VEVENT
BEGIN:VEVENT
DTSTART;VALUE=DATE:20280503
DTEND;VALUE=DATE:20280504
DTSTAMP:20260425T083626
CREATED:20240521T184328Z
LAST-MODIFIED:20240521T184328Z
UID:10004902-1840924800-1841011199@staging.lakeshrine.org
SUMMARY:Reserve to Visit
DESCRIPTION:Come be our guest today! https://staging.lakeshrine.org/meditation-gardens/ \nReservations open every Saturday at 10 AM PST for the week ahead. \nStart your reservation here:   https://staging.lakeshrine.org/guest-agreements/ \nComplete the steps. \nYou will receive an email confirmation. \nWhy reservations? https://staging.lakeshrine.org/why-do-we-require-reservations/
URL:https://staging.lakeshrine.org/event/reserve-to-visit/2028-05-03/
CATEGORIES:Meditation Gardens
END:VEVENT
BEGIN:VEVENT
DTSTART;VALUE=DATE:20280504
DTEND;VALUE=DATE:20280505
DTSTAMP:20260425T083626
CREATED:20240521T184328Z
LAST-MODIFIED:20240521T184328Z
UID:10004903-1841011200-1841097599@staging.lakeshrine.org
SUMMARY:Reserve to Visit
DESCRIPTION:Come be our guest today! https://staging.lakeshrine.org/meditation-gardens/ \nReservations open every Saturday at 10 AM PST for the week ahead. \nStart your reservation here:   https://staging.lakeshrine.org/guest-agreements/ \nComplete the steps. \nYou will receive an email confirmation. \nWhy reservations? https://staging.lakeshrine.org/why-do-we-require-reservations/
URL:https://staging.lakeshrine.org/event/reserve-to-visit/2028-05-04/
CATEGORIES:Meditation Gardens
END:VEVENT
BEGIN:VEVENT
DTSTART;VALUE=DATE:20280505
DTEND;VALUE=DATE:20280506
DTSTAMP:20260425T083626
CREATED:20240521T184328Z
LAST-MODIFIED:20240521T184328Z
UID:10004904-1841097600-1841183999@staging.lakeshrine.org
SUMMARY:Reserve to Visit
DESCRIPTION:Come be our guest today! https://staging.lakeshrine.org/meditation-gardens/ \nReservations open every Saturday at 10 AM PST for the week ahead. \nStart your reservation here:   https://staging.lakeshrine.org/guest-agreements/ \nComplete the steps. \nYou will receive an email confirmation. \nWhy reservations? https://staging.lakeshrine.org/why-do-we-require-reservations/
URL:https://staging.lakeshrine.org/event/reserve-to-visit/2028-05-05/
CATEGORIES:Meditation Gardens
END:VEVENT
BEGIN:VEVENT
DTSTART;VALUE=DATE:20280506
DTEND;VALUE=DATE:20280507
DTSTAMP:20260425T083626
CREATED:20240521T184328Z
LAST-MODIFIED:20240521T184328Z
UID:10004905-1841184000-1841270399@staging.lakeshrine.org
SUMMARY:Reserve to Visit
DESCRIPTION:Come be our guest today! https://staging.lakeshrine.org/meditation-gardens/ \nReservations open every Saturday at 10 AM PST for the week ahead. \nStart your reservation here:   https://staging.lakeshrine.org/guest-agreements/ \nComplete the steps. \nYou will receive an email confirmation. \nWhy reservations? https://staging.lakeshrine.org/why-do-we-require-reservations/
URL:https://staging.lakeshrine.org/event/reserve-to-visit/2028-05-06/
CATEGORIES:Meditation Gardens
END:VEVENT
BEGIN:VEVENT
DTSTART;VALUE=DATE:20280507
DTEND;VALUE=DATE:20280508
DTSTAMP:20260425T083626
CREATED:20240524T210958Z
LAST-MODIFIED:20240605T204542Z
UID:10004027-1841270400-1841356799@staging.lakeshrine.org
SUMMARY:Sunday Events
DESCRIPTION:Inspirational Service: 9 AM – 10 AM \nTemple gate opens at 8:15 AM.\nParking is available ONLY at the Temple level.\nNo Sunday School offered for this service \nInspirational Service: 11 AM – 12 PM\n\nParking is available at the Temple and Lake from 10:15 AM.\nSunday School is offered during this service.\nQuestions: https://staging.lakeshrine.org/sunday-school/ \nThe Meditation Gardens open at noon\, no reservations required! \n  \nCurious about meditation?\nTry a 30-minute guided meditation in the Windmill Chapel at 2 PM \nVisit our meditation gardens during the week and bring a friend! Our “reserve to visit” guest program is free and keeps the gardens safe and sacred. To reserve:  https://staging.lakeshrine.org/guest-agreements/ \n  \n  \nEvening Meditation with Devotional Chanting: 6 PM – 9 PM \n \n  \n5:40 PM Energization Exercises in the Temple Courtyard\n6 PM Meditation Begins\n9 PM Meditation Ends \n  \n  \nNew to Lake Shrine?\nWelcome!\nWe would love to connect with you!\nStop by the Welcome Table in the foyer!\nWe can answer your questions!
URL:https://staging.lakeshrine.org/event/sunday-events-with-pics-draft-2/2028-05-07/
LOCATION:Lake Shrine Temple\, Lake Shrine 17080 Sunset Blvd.\, Pacific Palisades\, CA\, 90272\, United States
CATEGORIES:Meditations & Inspirational Services
END:VEVENT
END:VCALENDAR