BEGIN:VCALENDAR
VERSION:2.0
PRODID:-//Self-Realization Fellowship Lake Shrine - ECPv6.6.1//NONSGML v1.0//EN
CALSCALE:GREGORIAN
METHOD:PUBLISH
X-WR-CALNAME:Self-Realization Fellowship Lake Shrine
X-ORIGINAL-URL:https://staging.lakeshrine.org
X-WR-CALDESC:Events for Self-Realization Fellowship Lake Shrine
REFRESH-INTERVAL;VALUE=DURATION:PT1H
X-Robots-Tag:noindex
X-PUBLISHED-TTL:PT1H
BEGIN:VTIMEZONE
TZID:America/Los_Angeles
BEGIN:DAYLIGHT
TZOFFSETFROM:-0800
TZOFFSETTO:-0700
TZNAME:PDT
DTSTART:20240310T100000
END:DAYLIGHT
BEGIN:STANDARD
TZOFFSETFROM:-0700
TZOFFSETTO:-0800
TZNAME:PST
DTSTART:20241103T090000
END:STANDARD
END:VTIMEZONE
BEGIN:VEVENT
DTSTART;VALUE=DATE:20240610
DTEND;VALUE=DATE:20240611
DTSTAMP:20260425T162630
CREATED:20230315T180157Z
LAST-MODIFIED:20240515T195237Z
UID:10000132-1717977600-1718063999@staging.lakeshrine.org
SUMMARY:Lake Shrine Closed
DESCRIPTION:Lake Shrine is closed today. \nReserve to visit: https://staging.lakeshrine.org/guest-agreements/ \nOr join us on Sunday morning in our temple!  Then meditate in the gardens! \nNo reservations are required on Sunday mornings!
URL:https://staging.lakeshrine.org/event/lake-shrine-grounds-and-temple-closed/2024-06-10/
CATEGORIES:Closures
END:VEVENT
BEGIN:VEVENT
DTSTART;TZID=America/Los_Angeles:20240609T123000
DTEND;TZID=America/Los_Angeles:20240609T140000
DTSTAMP:20260425T162630
CREATED:20240409T221545Z
LAST-MODIFIED:20240510T203850Z
UID:10003552-1717936200-1717941600@staging.lakeshrine.org
SUMMARY:Young Adults Meeting
DESCRIPTION:Are you in the under-40 Young Adult generation? \nDo you feel attracted toward pursuing the teachings of Paramahansa Yogananda and discovering new ways to live a spiritual life? \nJoin us in the Special Events Room.
URL:https://staging.lakeshrine.org/event/young-adults-meeting-9/
LOCATION:Lake Shrine Temple\, Lake Shrine 17080 Sunset Blvd.\, Pacific Palisades\, CA\, 90272\, United States
CATEGORIES:Young Adults
END:VEVENT
BEGIN:VEVENT
DTSTART;VALUE=DATE:20240609
DTEND;VALUE=DATE:20240610
DTSTAMP:20260425T162630
CREATED:20240515T205449Z
LAST-MODIFIED:20240515T205449Z
UID:10001335-1717891200-1717977599@staging.lakeshrine.org
SUMMARY:Sunday Events
DESCRIPTION:TEMPLE:  Inspirational Service: 9 AM – 10 AM   \nTemple gate opens at 8:15 AM.  Parking is available ONLY at the Temple level. \nNo Sunday School class offered for this service \nThe Meditation Gardens open at 12 noon \nTEMPLE:  Inspirational Service: 11 AM – 12 PM  \nParking is available at the Temple and Lake from 10:15 AM. \nSunday School is offered during this service. \nWindmill Chapel:  Guided Meditations: 2 PM – 2:30 PM \nNew to meditation? Try a 30-minute guided meditation today! Bring a friend! \nTEMPLE:  Evening Meditation with Devotional Chanting: 6 PM – 9 PM \n5:40 PM Energization Exercises\n6 PM Meditation Begins\n9 PM Meditation Closes \nJOIN US!
URL:https://staging.lakeshrine.org/event/join-us-on-sunday-2-4-14-2/2024-06-09/
LOCATION:Lake Shrine Temple\, Lake Shrine 17080 Sunset Blvd.\, Pacific Palisades\, CA\, 90272\, United States
CATEGORIES:Meditations & Inspirational Services
END:VEVENT
BEGIN:VEVENT
DTSTART;VALUE=DATE:20240608
DTEND;VALUE=DATE:20240609
DTSTAMP:20260425T162630
CREATED:20240521T184328Z
LAST-MODIFIED:20240521T184328Z
UID:10004092-1717804800-1717891199@staging.lakeshrine.org
SUMMARY:Reserve to Visit
DESCRIPTION:Come be our guest today! https://staging.lakeshrine.org/meditation-gardens/ \nReservations open every Saturday at 10 AM PST for the week ahead. \nStart your reservation here:   https://staging.lakeshrine.org/guest-agreements/ \nComplete the steps. \nYou will receive an email confirmation. \nWhy reservations? https://staging.lakeshrine.org/why-do-we-require-reservations/
URL:https://staging.lakeshrine.org/event/reserve-to-visit/2024-06-08/
CATEGORIES:Meditation Gardens
END:VEVENT
BEGIN:VEVENT
DTSTART;VALUE=DATE:20240607
DTEND;VALUE=DATE:20240608
DTSTAMP:20260425T162630
CREATED:20240521T184328Z
LAST-MODIFIED:20240521T184328Z
UID:10004091-1717718400-1717804799@staging.lakeshrine.org
SUMMARY:Reserve to Visit
DESCRIPTION:Come be our guest today! https://staging.lakeshrine.org/meditation-gardens/ \nReservations open every Saturday at 10 AM PST for the week ahead. \nStart your reservation here:   https://staging.lakeshrine.org/guest-agreements/ \nComplete the steps. \nYou will receive an email confirmation. \nWhy reservations? https://staging.lakeshrine.org/why-do-we-require-reservations/
URL:https://staging.lakeshrine.org/event/reserve-to-visit/2024-06-07/
CATEGORIES:Meditation Gardens
END:VEVENT
BEGIN:VEVENT
DTSTART;VALUE=DATE:20240606
DTEND;VALUE=DATE:20240607
DTSTAMP:20260425T162630
CREATED:20240521T184328Z
LAST-MODIFIED:20240521T184328Z
UID:10004090-1717632000-1717718399@staging.lakeshrine.org
SUMMARY:Reserve to Visit
DESCRIPTION:Come be our guest today! https://staging.lakeshrine.org/meditation-gardens/ \nReservations open every Saturday at 10 AM PST for the week ahead. \nStart your reservation here:   https://staging.lakeshrine.org/guest-agreements/ \nComplete the steps. \nYou will receive an email confirmation. \nWhy reservations? https://staging.lakeshrine.org/why-do-we-require-reservations/
URL:https://staging.lakeshrine.org/event/reserve-to-visit/2024-06-06/
CATEGORIES:Meditation Gardens
END:VEVENT
BEGIN:VEVENT
DTSTART;VALUE=DATE:20240605
DTEND;VALUE=DATE:20240606
DTSTAMP:20260425T162630
CREATED:20240521T184328Z
LAST-MODIFIED:20240521T184328Z
UID:10004089-1717545600-1717631999@staging.lakeshrine.org
SUMMARY:Reserve to Visit
DESCRIPTION:Come be our guest today! https://staging.lakeshrine.org/meditation-gardens/ \nReservations open every Saturday at 10 AM PST for the week ahead. \nStart your reservation here:   https://staging.lakeshrine.org/guest-agreements/ \nComplete the steps. \nYou will receive an email confirmation. \nWhy reservations? https://staging.lakeshrine.org/why-do-we-require-reservations/
URL:https://staging.lakeshrine.org/event/reserve-to-visit/2024-06-05/
CATEGORIES:Meditation Gardens
END:VEVENT
BEGIN:VEVENT
DTSTART;VALUE=DATE:20240604
DTEND;VALUE=DATE:20240605
DTSTAMP:20260425T162630
CREATED:20230315T180157Z
LAST-MODIFIED:20240515T195237Z
UID:10000131-1717459200-1717545599@staging.lakeshrine.org
SUMMARY:Lake Shrine Closed
DESCRIPTION:Lake Shrine is closed today. \nReserve to visit: https://staging.lakeshrine.org/guest-agreements/ \nOr join us on Sunday morning in our temple!  Then meditate in the gardens! \nNo reservations are required on Sunday mornings!
URL:https://staging.lakeshrine.org/event/lake-shrine-grounds-and-temple-closed/2024-06-04/
CATEGORIES:Closures
END:VEVENT
BEGIN:VEVENT
DTSTART;VALUE=DATE:20240603
DTEND;VALUE=DATE:20240604
DTSTAMP:20260425T162630
CREATED:20230315T180157Z
LAST-MODIFIED:20240515T195237Z
UID:10000130-1717372800-1717459199@staging.lakeshrine.org
SUMMARY:Lake Shrine Closed
DESCRIPTION:Lake Shrine is closed today. \nReserve to visit: https://staging.lakeshrine.org/guest-agreements/ \nOr join us on Sunday morning in our temple!  Then meditate in the gardens! \nNo reservations are required on Sunday mornings!
URL:https://staging.lakeshrine.org/event/lake-shrine-grounds-and-temple-closed/2024-06-03/
CATEGORIES:Closures
END:VEVENT
BEGIN:VEVENT
DTSTART;TZID=America/Los_Angeles:20240602T123000
DTEND;TZID=America/Los_Angeles:20240602T133000
DTSTAMP:20260425T162630
CREATED:20240409T215930Z
LAST-MODIFIED:20240506T211554Z
UID:10003553-1717331400-1717335000@staging.lakeshrine.org
SUMMARY:Docent Tour
DESCRIPTION:Docent-led tour which starts at the bottom of the stairs to the lake. \nThe tour includes a history of the property and stories of Paramahansa Yogananda’s time at Lake Shrine. \nFor history buffs:  https://staging.lakeshrine.org/about-lake-shrine/history/
URL:https://staging.lakeshrine.org/event/docent-tour-4/
LOCATION:Lake Shrine Temple\, Lake Shrine 17080 Sunset Blvd.\, Pacific Palisades\, CA\, 90272\, United States
CATEGORIES:Meditation Gardens
END:VEVENT
BEGIN:VEVENT
DTSTART;TZID=America/Los_Angeles:20240602T120000
DTEND;TZID=America/Los_Angeles:20240602T140000
DTSTAMP:20260425T162630
CREATED:20240506T210427Z
LAST-MODIFIED:20240506T210427Z
UID:10003586-1717329600-1717336800@staging.lakeshrine.org
SUMMARY:Friendship Tea
DESCRIPTION:Join us for fresh bakery and hot beverages in the Courtyard! \nForge meaningful connections with fellow devotees. \nVisit informally with Ministers.
URL:https://staging.lakeshrine.org/event/friendship-tea-4/
LOCATION:Lake Shrine Temple\, Lake Shrine 17080 Sunset Blvd.\, Pacific Palisades\, CA\, 90272\, United States
CATEGORIES:Social Events
END:VEVENT
BEGIN:VEVENT
DTSTART;VALUE=DATE:20240602
DTEND;VALUE=DATE:20240603
DTSTAMP:20260425T162630
CREATED:20240515T205449Z
LAST-MODIFIED:20240515T205449Z
UID:10001334-1717286400-1717372799@staging.lakeshrine.org
SUMMARY:Sunday Events
DESCRIPTION:TEMPLE:  Inspirational Service: 9 AM – 10 AM   \nTemple gate opens at 8:15 AM.  Parking is available ONLY at the Temple level. \nNo Sunday School class offered for this service \nThe Meditation Gardens open at 12 noon \nTEMPLE:  Inspirational Service: 11 AM – 12 PM  \nParking is available at the Temple and Lake from 10:15 AM. \nSunday School is offered during this service. \nWindmill Chapel:  Guided Meditations: 2 PM – 2:30 PM \nNew to meditation? Try a 30-minute guided meditation today! Bring a friend! \nTEMPLE:  Evening Meditation with Devotional Chanting: 6 PM – 9 PM \n5:40 PM Energization Exercises\n6 PM Meditation Begins\n9 PM Meditation Closes \nJOIN US!
URL:https://staging.lakeshrine.org/event/join-us-on-sunday-2-4-14-2/2024-06-02/
LOCATION:Lake Shrine Temple\, Lake Shrine 17080 Sunset Blvd.\, Pacific Palisades\, CA\, 90272\, United States
CATEGORIES:Meditations & Inspirational Services
END:VEVENT
BEGIN:VEVENT
DTSTART;VALUE=DATE:20240601
DTEND;VALUE=DATE:20240602
DTSTAMP:20260425T162630
CREATED:20240521T184328Z
LAST-MODIFIED:20240521T184328Z
UID:10004088-1717200000-1717286399@staging.lakeshrine.org
SUMMARY:Reserve to Visit
DESCRIPTION:Come be our guest today! https://staging.lakeshrine.org/meditation-gardens/ \nReservations open every Saturday at 10 AM PST for the week ahead. \nStart your reservation here:   https://staging.lakeshrine.org/guest-agreements/ \nComplete the steps. \nYou will receive an email confirmation. \nWhy reservations? https://staging.lakeshrine.org/why-do-we-require-reservations/
URL:https://staging.lakeshrine.org/event/reserve-to-visit/2024-06-01/
CATEGORIES:Meditation Gardens
END:VEVENT
BEGIN:VEVENT
DTSTART;VALUE=DATE:20240531
DTEND;VALUE=DATE:20240601
DTSTAMP:20260425T162630
CREATED:20240521T184328Z
LAST-MODIFIED:20240521T184328Z
UID:10004087-1717113600-1717199999@staging.lakeshrine.org
SUMMARY:Reserve to Visit
DESCRIPTION:Come be our guest today! https://staging.lakeshrine.org/meditation-gardens/ \nReservations open every Saturday at 10 AM PST for the week ahead. \nStart your reservation here:   https://staging.lakeshrine.org/guest-agreements/ \nComplete the steps. \nYou will receive an email confirmation. \nWhy reservations? https://staging.lakeshrine.org/why-do-we-require-reservations/
URL:https://staging.lakeshrine.org/event/reserve-to-visit/2024-05-31/
CATEGORIES:Meditation Gardens
END:VEVENT
BEGIN:VEVENT
DTSTART;VALUE=DATE:20240530
DTEND;VALUE=DATE:20240531
DTSTAMP:20260425T162630
CREATED:20240521T184328Z
LAST-MODIFIED:20240521T184328Z
UID:10004086-1717027200-1717113599@staging.lakeshrine.org
SUMMARY:Reserve to Visit
DESCRIPTION:Come be our guest today! https://staging.lakeshrine.org/meditation-gardens/ \nReservations open every Saturday at 10 AM PST for the week ahead. \nStart your reservation here:   https://staging.lakeshrine.org/guest-agreements/ \nComplete the steps. \nYou will receive an email confirmation. \nWhy reservations? https://staging.lakeshrine.org/why-do-we-require-reservations/
URL:https://staging.lakeshrine.org/event/reserve-to-visit/2024-05-30/
CATEGORIES:Meditation Gardens
END:VEVENT
BEGIN:VEVENT
DTSTART;VALUE=DATE:20240529
DTEND;VALUE=DATE:20240530
DTSTAMP:20260425T162630
CREATED:20240524T154728Z
LAST-MODIFIED:20240524T164325Z
UID:10004085-1716940800-1717027199@staging.lakeshrine.org
SUMMARY:Lake Shrine Closed
DESCRIPTION:  \n 
URL:https://staging.lakeshrine.org/event/lake-shrine-closed-2/
CATEGORIES:Closures
END:VEVENT
BEGIN:VEVENT
DTSTART;TZID=America/Los_Angeles:20240528T190000
DTEND;TZID=America/Los_Angeles:20240528T210000
DTSTAMP:20260425T162630
CREATED:20240416T192911Z
LAST-MODIFIED:20240527T224948Z
UID:10003555-1716922800-1716930000@staging.lakeshrine.org
SUMMARY:Kriyaban Meditation and Class -Cancelled
DESCRIPTION:This event will not be held. Our next Kriyaban event is scheduled for  June 25. \n  \nTo be added to Lake Shrine Kriyaban event notifications\, please email:  https://staging.lakeshrine.org/connect/contact/
URL:https://staging.lakeshrine.org/event/kriyaban-meditation-and-class/
LOCATION:Lake Shrine Temple\, Lake Shrine 17080 Sunset Blvd.\, Pacific Palisades\, CA\, 90272\, United States
CATEGORIES:Minister-led Events
END:VEVENT
BEGIN:VEVENT
DTSTART;VALUE=DATE:20240528
DTEND;VALUE=DATE:20240529
DTSTAMP:20260425T162630
CREATED:20230315T180157Z
LAST-MODIFIED:20240515T195237Z
UID:10000129-1716854400-1716940799@staging.lakeshrine.org
SUMMARY:Lake Shrine Closed
DESCRIPTION:Lake Shrine is closed today. \nReserve to visit: https://staging.lakeshrine.org/guest-agreements/ \nOr join us on Sunday morning in our temple!  Then meditate in the gardens! \nNo reservations are required on Sunday mornings!
URL:https://staging.lakeshrine.org/event/lake-shrine-grounds-and-temple-closed/2024-05-28/
CATEGORIES:Closures
END:VEVENT
BEGIN:VEVENT
DTSTART;VALUE=DATE:20240527
DTEND;VALUE=DATE:20240528
DTSTAMP:20260425T162630
CREATED:20230315T180157Z
LAST-MODIFIED:20240515T195237Z
UID:10000128-1716768000-1716854399@staging.lakeshrine.org
SUMMARY:Lake Shrine Closed
DESCRIPTION:Lake Shrine is closed today. \nReserve to visit: https://staging.lakeshrine.org/guest-agreements/ \nOr join us on Sunday morning in our temple!  Then meditate in the gardens! \nNo reservations are required on Sunday mornings!
URL:https://staging.lakeshrine.org/event/lake-shrine-grounds-and-temple-closed/2024-05-27/
CATEGORIES:Closures
END:VEVENT
BEGIN:VEVENT
DTSTART;VALUE=DATE:20240526
DTEND;VALUE=DATE:20240527
DTSTAMP:20260425T162630
CREATED:20240515T205449Z
LAST-MODIFIED:20240515T205449Z
UID:10001333-1716681600-1716767999@staging.lakeshrine.org
SUMMARY:Sunday Events
DESCRIPTION:TEMPLE:  Inspirational Service: 9 AM – 10 AM   \nTemple gate opens at 8:15 AM.  Parking is available ONLY at the Temple level. \nNo Sunday School class offered for this service \nThe Meditation Gardens open at 12 noon \nTEMPLE:  Inspirational Service: 11 AM – 12 PM  \nParking is available at the Temple and Lake from 10:15 AM. \nSunday School is offered during this service. \nWindmill Chapel:  Guided Meditations: 2 PM – 2:30 PM \nNew to meditation? Try a 30-minute guided meditation today! Bring a friend! \nTEMPLE:  Evening Meditation with Devotional Chanting: 6 PM – 9 PM \n5:40 PM Energization Exercises\n6 PM Meditation Begins\n9 PM Meditation Closes \nJOIN US!
URL:https://staging.lakeshrine.org/event/join-us-on-sunday-2-4-14-2/2024-05-26/
LOCATION:Lake Shrine Temple\, Lake Shrine 17080 Sunset Blvd.\, Pacific Palisades\, CA\, 90272\, United States
CATEGORIES:Meditations & Inspirational Services
END:VEVENT
BEGIN:VEVENT
DTSTART;TZID=America/Los_Angeles:20240525T100000
DTEND;TZID=America/Los_Angeles:20240525T140000
DTSTAMP:20260425T162630
CREATED:20240508T030632Z
LAST-MODIFIED:20240508T030632Z
UID:10003624-1716631200-1716645600@staging.lakeshrine.org
SUMMARY:Temple Four Hour Group Meditation
DESCRIPTION:Monastic led group meditation with devotional chanting \nGate opens at 9:15 AM \nNo group energization Exercises \nAll are welcome!
URL:https://staging.lakeshrine.org/event/temple-four-hour-group-meditation-2/
LOCATION:Lake Shrine Temple\, Lake Shrine 17080 Sunset Blvd.\, Pacific Palisades\, CA\, 90272\, United States
CATEGORIES:Temple and Meditation Gardens Open Hours
END:VEVENT
BEGIN:VEVENT
DTSTART;VALUE=DATE:20240521
DTEND;VALUE=DATE:20240522
DTSTAMP:20260425T162630
CREATED:20230315T180157Z
LAST-MODIFIED:20240515T195237Z
UID:10000127-1716249600-1716335999@staging.lakeshrine.org
SUMMARY:Lake Shrine Closed
DESCRIPTION:Lake Shrine is closed today. \nReserve to visit: https://staging.lakeshrine.org/guest-agreements/ \nOr join us on Sunday morning in our temple!  Then meditate in the gardens! \nNo reservations are required on Sunday mornings!
URL:https://staging.lakeshrine.org/event/lake-shrine-grounds-and-temple-closed/2024-05-21/
CATEGORIES:Closures
END:VEVENT
BEGIN:VEVENT
DTSTART;VALUE=DATE:20240520
DTEND;VALUE=DATE:20240521
DTSTAMP:20260425T162630
CREATED:20230315T180157Z
LAST-MODIFIED:20240515T195237Z
UID:10000126-1716163200-1716249599@staging.lakeshrine.org
SUMMARY:Lake Shrine Closed
DESCRIPTION:Lake Shrine is closed today. \nReserve to visit: https://staging.lakeshrine.org/guest-agreements/ \nOr join us on Sunday morning in our temple!  Then meditate in the gardens! \nNo reservations are required on Sunday mornings!
URL:https://staging.lakeshrine.org/event/lake-shrine-grounds-and-temple-closed/2024-05-20/
CATEGORIES:Closures
END:VEVENT
BEGIN:VEVENT
DTSTART;TZID=America/Los_Angeles:20240519T121500
DTEND;TZID=America/Los_Angeles:20240519T133000
DTSTAMP:20260425T162630
CREATED:20240416T192114Z
LAST-MODIFIED:20240416T192114Z
UID:10003554-1716120900-1716125400@staging.lakeshrine.org
SUMMARY:Docent Tour (Saints Tour)
DESCRIPTION:  \n\nEnjoy anecdotes and incidents in the lives of the Saints of all religions honored around the Lake.\nThe tour starts at 12:15 PM at the gate at the bottom of the stairs going to the Lake.
URL:https://staging.lakeshrine.org/event/docent-tour-saints-tour/
LOCATION:Lake Shrine\, Lake Shrine 17190 Sunset Blvd.\, Pacific Palisades\, CA\, 90272\, United States
CATEGORIES:Other Events
END:VEVENT
BEGIN:VEVENT
DTSTART;VALUE=DATE:20240519
DTEND;VALUE=DATE:20240520
DTSTAMP:20260425T162630
CREATED:20240515T205449Z
LAST-MODIFIED:20240515T205449Z
UID:10001332-1716076800-1716163199@staging.lakeshrine.org
SUMMARY:Sunday Events
DESCRIPTION:TEMPLE:  Inspirational Service: 9 AM – 10 AM   \nTemple gate opens at 8:15 AM.  Parking is available ONLY at the Temple level. \nNo Sunday School class offered for this service \nThe Meditation Gardens open at 12 noon \nTEMPLE:  Inspirational Service: 11 AM – 12 PM  \nParking is available at the Temple and Lake from 10:15 AM. \nSunday School is offered during this service. \nWindmill Chapel:  Guided Meditations: 2 PM – 2:30 PM \nNew to meditation? Try a 30-minute guided meditation today! Bring a friend! \nTEMPLE:  Evening Meditation with Devotional Chanting: 6 PM – 9 PM \n5:40 PM Energization Exercises\n6 PM Meditation Begins\n9 PM Meditation Closes \nJOIN US!
URL:https://staging.lakeshrine.org/event/join-us-on-sunday-2-4-14-2/2024-05-19/
LOCATION:Lake Shrine Temple\, Lake Shrine 17080 Sunset Blvd.\, Pacific Palisades\, CA\, 90272\, United States
CATEGORIES:Meditations & Inspirational Services
END:VEVENT
BEGIN:VEVENT
DTSTART;TZID=America/Los_Angeles:20240518T090000
DTEND;TZID=America/Los_Angeles:20240518T140000
DTSTAMP:20260425T162630
CREATED:20240409T221233Z
LAST-MODIFIED:20240506T213230Z
UID:10003521-1716022800-1716040800@staging.lakeshrine.org
SUMMARY:Temple Morning of Service
DESCRIPTION:9 AM: Group Meditation in the sanctuary \n9:30 – noon:   Service projects – Temple and Lake Level \nNoon:  Group meditation \n12:30 PM:  Delicious\, vegetarian courtyard lunch
URL:https://staging.lakeshrine.org/event/test-tmos-all-welcome/
LOCATION:Lake Shrine Temple\, Lake Shrine 17080 Sunset Blvd.\, Pacific Palisades\, CA\, 90272\, United States
CATEGORIES:Day of Service
END:VEVENT
BEGIN:VEVENT
DTSTART;VALUE=DATE:20240514
DTEND;VALUE=DATE:20240515
DTSTAMP:20260425T162630
CREATED:20230315T180157Z
LAST-MODIFIED:20240515T195237Z
UID:10000125-1715644800-1715731199@staging.lakeshrine.org
SUMMARY:Lake Shrine Closed
DESCRIPTION:Lake Shrine is closed today. \nReserve to visit: https://staging.lakeshrine.org/guest-agreements/ \nOr join us on Sunday morning in our temple!  Then meditate in the gardens! \nNo reservations are required on Sunday mornings!
URL:https://staging.lakeshrine.org/event/lake-shrine-grounds-and-temple-closed/2024-05-14/
CATEGORIES:Closures
END:VEVENT
BEGIN:VEVENT
DTSTART;VALUE=DATE:20240513
DTEND;VALUE=DATE:20240514
DTSTAMP:20260425T162630
CREATED:20230315T180157Z
LAST-MODIFIED:20240515T195237Z
UID:10000124-1715558400-1715644799@staging.lakeshrine.org
SUMMARY:Lake Shrine Closed
DESCRIPTION:Lake Shrine is closed today. \nReserve to visit: https://staging.lakeshrine.org/guest-agreements/ \nOr join us on Sunday morning in our temple!  Then meditate in the gardens! \nNo reservations are required on Sunday mornings!
URL:https://staging.lakeshrine.org/event/lake-shrine-grounds-and-temple-closed/2024-05-13/
CATEGORIES:Closures
END:VEVENT
BEGIN:VEVENT
DTSTART;TZID=America/Los_Angeles:20240512T123000
DTEND;TZID=America/Los_Angeles:20240512T140000
DTSTAMP:20260425T162630
CREATED:20240506T212235Z
LAST-MODIFIED:20240506T212235Z
UID:10003605-1715517000-1715522400@staging.lakeshrine.org
SUMMARY:Young Adults Meeting
DESCRIPTION:Are you in the under-40 Young Adult generation? \nDo you feel attracted toward pursuing the teachings of Paramahansa Yogananda and discovering new ways to live a spiritual life? \nJoin us in the Special Events Room.
URL:https://staging.lakeshrine.org/event/young-adults-meeting-10/
LOCATION:Lake Shrine Temple\, Lake Shrine 17080 Sunset Blvd.\, Pacific Palisades\, CA\, 90272\, United States
CATEGORIES:Young Adults
END:VEVENT
BEGIN:VEVENT
DTSTART;VALUE=DATE:20240512
DTEND;VALUE=DATE:20240513
DTSTAMP:20260425T162630
CREATED:20240120T214920Z
LAST-MODIFIED:20240416T194401Z
UID:10001331-1715472000-1715558399@staging.lakeshrine.org
SUMMARY:Sunday Events
DESCRIPTION:Inspirational Service: 9 AM – 10 AM   \nTemple gate opens at 8:15 AM.  Parking is available ONLY at the Temple level. \nNo Sunday School class offered for this service \nThe Meditation Gardens open at 12 noon \nInspirational Service: 11 AM – 12 PM  \nParking is available at the Temple and Lake from 10:15 AM. \nSunday School is offered during this service. \nWindmill Chapel Guided Meditations: 2 PM – 2:30 PM \nEvening Meditation and Devotional Chanting: 6 PM – 9 PM \n5:40 PM Energization Exercises\n6 PM Meditation Begins\n9 PM Meditation Closes \nWe look forward to having you join us!
URL:https://staging.lakeshrine.org/event/join-us-on-sunday-2-4-14/2024-05-12/
LOCATION:Lake Shrine Temple\, Lake Shrine 17080 Sunset Blvd.\, Pacific Palisades\, CA\, 90272\, United States
CATEGORIES:Meditations & Inspirational Services
END:VEVENT
END:VCALENDAR