BEGIN:VCALENDAR
VERSION:2.0
PRODID:-//Self-Realization Fellowship Lake Shrine - ECPv6.6.1//NONSGML v1.0//EN
CALSCALE:GREGORIAN
METHOD:PUBLISH
X-WR-CALNAME:Self-Realization Fellowship Lake Shrine
X-ORIGINAL-URL:https://staging.lakeshrine.org
X-WR-CALDESC:Events for Self-Realization Fellowship Lake Shrine
REFRESH-INTERVAL;VALUE=DURATION:PT1H
X-Robots-Tag:noindex
X-PUBLISHED-TTL:PT1H
BEGIN:VTIMEZONE
TZID:America/Los_Angeles
BEGIN:DAYLIGHT
TZOFFSETFROM:-0800
TZOFFSETTO:-0700
TZNAME:PDT
DTSTART:20240310T100000
END:DAYLIGHT
BEGIN:STANDARD
TZOFFSETFROM:-0700
TZOFFSETTO:-0800
TZNAME:PST
DTSTART:20241103T090000
END:STANDARD
END:VTIMEZONE
BEGIN:VEVENT
DTSTART;VALUE=DATE:20240826
DTEND;VALUE=DATE:20240827
DTSTAMP:20260425T060407
CREATED:20230315T180157Z
LAST-MODIFIED:20240515T195237Z
UID:10000154-1724630400-1724716799@staging.lakeshrine.org
SUMMARY:Lake Shrine Closed
DESCRIPTION:Lake Shrine is closed today. \nReserve to visit: https://staging.lakeshrine.org/guest-agreements/ \nOr join us on Sunday morning in our temple!  Then meditate in the gardens! \nNo reservations are required on Sunday mornings!
URL:https://staging.lakeshrine.org/event/lake-shrine-grounds-and-temple-closed/2024-08-26/
CATEGORIES:Closures
END:VEVENT
BEGIN:VEVENT
DTSTART;VALUE=DATE:20240825
DTEND;VALUE=DATE:20240826
DTSTAMP:20260425T060407
CREATED:20240524T210958Z
LAST-MODIFIED:20240605T204542Z
UID:10003834-1724544000-1724630399@staging.lakeshrine.org
SUMMARY:Sunday Events
DESCRIPTION:Inspirational Service: 9 AM – 10 AM \nTemple gate opens at 8:15 AM.\nParking is available ONLY at the Temple level.\nNo Sunday School offered for this service \nInspirational Service: 11 AM – 12 PM\n\nParking is available at the Temple and Lake from 10:15 AM.\nSunday School is offered during this service.\nQuestions: https://staging.lakeshrine.org/sunday-school/ \nThe Meditation Gardens open at noon\, no reservations required! \n  \nCurious about meditation?\nTry a 30-minute guided meditation in the Windmill Chapel at 2 PM \nVisit our meditation gardens during the week and bring a friend! Our “reserve to visit” guest program is free and keeps the gardens safe and sacred. To reserve:  https://staging.lakeshrine.org/guest-agreements/ \n  \n  \nEvening Meditation with Devotional Chanting: 6 PM – 9 PM \n \n  \n5:40 PM Energization Exercises in the Temple Courtyard\n6 PM Meditation Begins\n9 PM Meditation Ends \n  \n  \nNew to Lake Shrine?\nWelcome!\nWe would love to connect with you!\nStop by the Welcome Table in the foyer!\nWe can answer your questions!
URL:https://staging.lakeshrine.org/event/sunday-events-with-pics-draft-2/2024-08-25/
LOCATION:Lake Shrine Temple\, Lake Shrine 17080 Sunset Blvd.\, Pacific Palisades\, CA\, 90272\, United States
CATEGORIES:Meditations & Inspirational Services
END:VEVENT
BEGIN:VEVENT
DTSTART;TZID=America/Los_Angeles:20240824T100000
DTEND;TZID=America/Los_Angeles:20240824T140000
DTSTAMP:20260425T060407
CREATED:20240707T215430Z
LAST-MODIFIED:20240707T215934Z
UID:10007527-1724493600-1724508000@staging.lakeshrine.org
SUMMARY:Temple Four Hour Group Meditation
DESCRIPTION:Monastic led group meditation with devotional chanting \nGate opens at 9:15 AM \nNo group energization Exercises \nAll are welcome!
URL:https://staging.lakeshrine.org/event/temple-four-hour-group-meditation-3/
LOCATION:Lake Shrine Temple\, Lake Shrine 17080 Sunset Blvd.\, Pacific Palisades\, CA\, 90272\, United States
CATEGORIES:Meditations & Inspirational Services,Minister-led Events,Temple and Meditation Gardens Open Hours
END:VEVENT
BEGIN:VEVENT
DTSTART;VALUE=DATE:20240824
DTEND;VALUE=DATE:20240825
DTSTAMP:20260425T060407
CREATED:20240521T184328Z
LAST-MODIFIED:20240521T184328Z
UID:10004133-1724457600-1724543999@staging.lakeshrine.org
SUMMARY:Reserve to Visit
DESCRIPTION:Come be our guest today! https://staging.lakeshrine.org/meditation-gardens/ \nReservations open every Saturday at 10 AM PST for the week ahead. \nStart your reservation here:   https://staging.lakeshrine.org/guest-agreements/ \nComplete the steps. \nYou will receive an email confirmation. \nWhy reservations? https://staging.lakeshrine.org/why-do-we-require-reservations/
URL:https://staging.lakeshrine.org/event/reserve-to-visit/2024-08-24/
CATEGORIES:Meditation Gardens
END:VEVENT
BEGIN:VEVENT
DTSTART;VALUE=DATE:20240823
DTEND;VALUE=DATE:20240824
DTSTAMP:20260425T060407
CREATED:20240521T184328Z
LAST-MODIFIED:20240521T184328Z
UID:10004132-1724371200-1724457599@staging.lakeshrine.org
SUMMARY:Reserve to Visit
DESCRIPTION:Come be our guest today! https://staging.lakeshrine.org/meditation-gardens/ \nReservations open every Saturday at 10 AM PST for the week ahead. \nStart your reservation here:   https://staging.lakeshrine.org/guest-agreements/ \nComplete the steps. \nYou will receive an email confirmation. \nWhy reservations? https://staging.lakeshrine.org/why-do-we-require-reservations/
URL:https://staging.lakeshrine.org/event/reserve-to-visit/2024-08-23/
CATEGORIES:Meditation Gardens
END:VEVENT
BEGIN:VEVENT
DTSTART;VALUE=DATE:20240822
DTEND;VALUE=DATE:20240823
DTSTAMP:20260425T060407
CREATED:20240521T184328Z
LAST-MODIFIED:20240521T184328Z
UID:10004131-1724284800-1724371199@staging.lakeshrine.org
SUMMARY:Reserve to Visit
DESCRIPTION:Come be our guest today! https://staging.lakeshrine.org/meditation-gardens/ \nReservations open every Saturday at 10 AM PST for the week ahead. \nStart your reservation here:   https://staging.lakeshrine.org/guest-agreements/ \nComplete the steps. \nYou will receive an email confirmation. \nWhy reservations? https://staging.lakeshrine.org/why-do-we-require-reservations/
URL:https://staging.lakeshrine.org/event/reserve-to-visit/2024-08-22/
CATEGORIES:Meditation Gardens
END:VEVENT
BEGIN:VEVENT
DTSTART;VALUE=DATE:20240821
DTEND;VALUE=DATE:20240822
DTSTAMP:20260425T060407
CREATED:20240521T184328Z
LAST-MODIFIED:20240521T184328Z
UID:10004130-1724198400-1724284799@staging.lakeshrine.org
SUMMARY:Reserve to Visit
DESCRIPTION:Come be our guest today! https://staging.lakeshrine.org/meditation-gardens/ \nReservations open every Saturday at 10 AM PST for the week ahead. \nStart your reservation here:   https://staging.lakeshrine.org/guest-agreements/ \nComplete the steps. \nYou will receive an email confirmation. \nWhy reservations? https://staging.lakeshrine.org/why-do-we-require-reservations/
URL:https://staging.lakeshrine.org/event/reserve-to-visit/2024-08-21/
CATEGORIES:Meditation Gardens
END:VEVENT
BEGIN:VEVENT
DTSTART;VALUE=DATE:20240820
DTEND;VALUE=DATE:20240821
DTSTAMP:20260425T060407
CREATED:20230315T180157Z
LAST-MODIFIED:20240515T195237Z
UID:10000153-1724112000-1724198399@staging.lakeshrine.org
SUMMARY:Lake Shrine Closed
DESCRIPTION:Lake Shrine is closed today. \nReserve to visit: https://staging.lakeshrine.org/guest-agreements/ \nOr join us on Sunday morning in our temple!  Then meditate in the gardens! \nNo reservations are required on Sunday mornings!
URL:https://staging.lakeshrine.org/event/lake-shrine-grounds-and-temple-closed/2024-08-20/
CATEGORIES:Closures
END:VEVENT
BEGIN:VEVENT
DTSTART;VALUE=DATE:20240819
DTEND;VALUE=DATE:20240820
DTSTAMP:20260425T060407
CREATED:20230315T180157Z
LAST-MODIFIED:20240515T195237Z
UID:10000152-1724025600-1724111999@staging.lakeshrine.org
SUMMARY:Lake Shrine Closed
DESCRIPTION:Lake Shrine is closed today. \nReserve to visit: https://staging.lakeshrine.org/guest-agreements/ \nOr join us on Sunday morning in our temple!  Then meditate in the gardens! \nNo reservations are required on Sunday mornings!
URL:https://staging.lakeshrine.org/event/lake-shrine-grounds-and-temple-closed/2024-08-19/
CATEGORIES:Closures
END:VEVENT
BEGIN:VEVENT
DTSTART;TZID=America/Los_Angeles:20240818T121500
DTEND;TZID=America/Los_Angeles:20240818T140000
DTSTAMP:20260425T060407
CREATED:20240727T225739Z
LAST-MODIFIED:20240727T225739Z
UID:10007550-1723983300-1723989600@staging.lakeshrine.org
SUMMARY:Visiting the Houseboat Shrine
DESCRIPTION:We invite you to experience a peace-filled meditation in the Houseboat Shrine – open for you – this afternoon!
URL:https://staging.lakeshrine.org/event/visiting-the-houseboat-shrine/
LOCATION:Lake Shrine Temple\, Lake Shrine 17080 Sunset Blvd.\, Pacific Palisades\, CA\, 90272\, United States
CATEGORIES:Meditation Gardens
END:VEVENT
BEGIN:VEVENT
DTSTART;VALUE=DATE:20240818
DTEND;VALUE=DATE:20240819
DTSTAMP:20260425T060407
CREATED:20240524T210958Z
LAST-MODIFIED:20240605T204542Z
UID:10003833-1723939200-1724025599@staging.lakeshrine.org
SUMMARY:Sunday Events
DESCRIPTION:Inspirational Service: 9 AM – 10 AM \nTemple gate opens at 8:15 AM.\nParking is available ONLY at the Temple level.\nNo Sunday School offered for this service \nInspirational Service: 11 AM – 12 PM\n\nParking is available at the Temple and Lake from 10:15 AM.\nSunday School is offered during this service.\nQuestions: https://staging.lakeshrine.org/sunday-school/ \nThe Meditation Gardens open at noon\, no reservations required! \n  \nCurious about meditation?\nTry a 30-minute guided meditation in the Windmill Chapel at 2 PM \nVisit our meditation gardens during the week and bring a friend! Our “reserve to visit” guest program is free and keeps the gardens safe and sacred. To reserve:  https://staging.lakeshrine.org/guest-agreements/ \n  \n  \nEvening Meditation with Devotional Chanting: 6 PM – 9 PM \n \n  \n5:40 PM Energization Exercises in the Temple Courtyard\n6 PM Meditation Begins\n9 PM Meditation Ends \n  \n  \nNew to Lake Shrine?\nWelcome!\nWe would love to connect with you!\nStop by the Welcome Table in the foyer!\nWe can answer your questions!
URL:https://staging.lakeshrine.org/event/sunday-events-with-pics-draft-2/2024-08-18/
LOCATION:Lake Shrine Temple\, Lake Shrine 17080 Sunset Blvd.\, Pacific Palisades\, CA\, 90272\, United States
CATEGORIES:Meditations & Inspirational Services
END:VEVENT
BEGIN:VEVENT
DTSTART;TZID=America/Los_Angeles:20240817T090000
DTEND;TZID=America/Los_Angeles:20240817T090000
DTSTAMP:20260425T060407
CREATED:20240623T194207Z
LAST-MODIFIED:20240707T220233Z
UID:10007493-1723885200-1723885200@staging.lakeshrine.org
SUMMARY:Temple Morning of Service
DESCRIPTION:9 AM: Group Meditation in the sanctuary \n9:30 – noon:   Service projects – Temple and Lake Level \nNoon:  Group meditation \n12:30 PM:  Delicious\, vegetarian courtyard lunch \nMeet new people!   Make new friends!   Have fun!
URL:https://staging.lakeshrine.org/event/temple-morning-of-service-18/
LOCATION:Lake Shrine Temple\, Lake Shrine 17080 Sunset Blvd.\, Pacific Palisades\, CA\, 90272\, United States
CATEGORIES:Day of Service
END:VEVENT
BEGIN:VEVENT
DTSTART;VALUE=DATE:20240817
DTEND;VALUE=DATE:20240818
DTSTAMP:20260425T060407
CREATED:20240521T184328Z
LAST-MODIFIED:20240521T184328Z
UID:10004129-1723852800-1723939199@staging.lakeshrine.org
SUMMARY:Reserve to Visit
DESCRIPTION:Come be our guest today! https://staging.lakeshrine.org/meditation-gardens/ \nReservations open every Saturday at 10 AM PST for the week ahead. \nStart your reservation here:   https://staging.lakeshrine.org/guest-agreements/ \nComplete the steps. \nYou will receive an email confirmation. \nWhy reservations? https://staging.lakeshrine.org/why-do-we-require-reservations/
URL:https://staging.lakeshrine.org/event/reserve-to-visit/2024-08-17/
CATEGORIES:Meditation Gardens
END:VEVENT
BEGIN:VEVENT
DTSTART;VALUE=DATE:20240816
DTEND;VALUE=DATE:20240817
DTSTAMP:20260425T060407
CREATED:20240521T184328Z
LAST-MODIFIED:20240521T184328Z
UID:10004128-1723766400-1723852799@staging.lakeshrine.org
SUMMARY:Reserve to Visit
DESCRIPTION:Come be our guest today! https://staging.lakeshrine.org/meditation-gardens/ \nReservations open every Saturday at 10 AM PST for the week ahead. \nStart your reservation here:   https://staging.lakeshrine.org/guest-agreements/ \nComplete the steps. \nYou will receive an email confirmation. \nWhy reservations? https://staging.lakeshrine.org/why-do-we-require-reservations/
URL:https://staging.lakeshrine.org/event/reserve-to-visit/2024-08-16/
CATEGORIES:Meditation Gardens
END:VEVENT
BEGIN:VEVENT
DTSTART;VALUE=DATE:20240815
DTEND;VALUE=DATE:20240816
DTSTAMP:20260425T060407
CREATED:20240521T184328Z
LAST-MODIFIED:20240521T184328Z
UID:10004127-1723680000-1723766399@staging.lakeshrine.org
SUMMARY:Reserve to Visit
DESCRIPTION:Come be our guest today! https://staging.lakeshrine.org/meditation-gardens/ \nReservations open every Saturday at 10 AM PST for the week ahead. \nStart your reservation here:   https://staging.lakeshrine.org/guest-agreements/ \nComplete the steps. \nYou will receive an email confirmation. \nWhy reservations? https://staging.lakeshrine.org/why-do-we-require-reservations/
URL:https://staging.lakeshrine.org/event/reserve-to-visit/2024-08-15/
CATEGORIES:Meditation Gardens
END:VEVENT
BEGIN:VEVENT
DTSTART;VALUE=DATE:20240814
DTEND;VALUE=DATE:20240815
DTSTAMP:20260425T060407
CREATED:20240521T184328Z
LAST-MODIFIED:20240521T184328Z
UID:10004126-1723593600-1723679999@staging.lakeshrine.org
SUMMARY:Reserve to Visit
DESCRIPTION:Come be our guest today! https://staging.lakeshrine.org/meditation-gardens/ \nReservations open every Saturday at 10 AM PST for the week ahead. \nStart your reservation here:   https://staging.lakeshrine.org/guest-agreements/ \nComplete the steps. \nYou will receive an email confirmation. \nWhy reservations? https://staging.lakeshrine.org/why-do-we-require-reservations/
URL:https://staging.lakeshrine.org/event/reserve-to-visit/2024-08-14/
CATEGORIES:Meditation Gardens
END:VEVENT
BEGIN:VEVENT
DTSTART;VALUE=DATE:20240813
DTEND;VALUE=DATE:20240814
DTSTAMP:20260425T060407
CREATED:20230315T180157Z
LAST-MODIFIED:20240515T195237Z
UID:10000151-1723507200-1723593599@staging.lakeshrine.org
SUMMARY:Lake Shrine Closed
DESCRIPTION:Lake Shrine is closed today. \nReserve to visit: https://staging.lakeshrine.org/guest-agreements/ \nOr join us on Sunday morning in our temple!  Then meditate in the gardens! \nNo reservations are required on Sunday mornings!
URL:https://staging.lakeshrine.org/event/lake-shrine-grounds-and-temple-closed/2024-08-13/
CATEGORIES:Closures
END:VEVENT
BEGIN:VEVENT
DTSTART;VALUE=DATE:20240812
DTEND;VALUE=DATE:20240813
DTSTAMP:20260425T060407
CREATED:20230315T180157Z
LAST-MODIFIED:20240515T195237Z
UID:10000150-1723420800-1723507199@staging.lakeshrine.org
SUMMARY:Lake Shrine Closed
DESCRIPTION:Lake Shrine is closed today. \nReserve to visit: https://staging.lakeshrine.org/guest-agreements/ \nOr join us on Sunday morning in our temple!  Then meditate in the gardens! \nNo reservations are required on Sunday mornings!
URL:https://staging.lakeshrine.org/event/lake-shrine-grounds-and-temple-closed/2024-08-12/
CATEGORIES:Closures
END:VEVENT
BEGIN:VEVENT
DTSTART;TZID=America/Los_Angeles:20240811T123000
DTEND;TZID=America/Los_Angeles:20240811T140000
DTSTAMP:20260425T060407
CREATED:20240510T204505Z
LAST-MODIFIED:20240707T220510Z
UID:10003676-1723379400-1723384800@staging.lakeshrine.org
SUMMARY:Young Adults Meeting
DESCRIPTION:Are you in the under-40 Young Adult generation? \nDo you feel attracted toward pursuing the teachings of Paramahansa Yogananda and discovering new ways to live a spiritual life? \nJoin us in the Special Events Room.
URL:https://staging.lakeshrine.org/event/young-adults-meeting-11/
LOCATION:Lake Shrine Temple\, Lake Shrine 17080 Sunset Blvd.\, Pacific Palisades\, CA\, 90272\, United States
CATEGORIES:Young Adults
END:VEVENT
BEGIN:VEVENT
DTSTART;VALUE=DATE:20240811
DTEND;VALUE=DATE:20240812
DTSTAMP:20260425T060407
CREATED:20240524T210958Z
LAST-MODIFIED:20240605T204542Z
UID:10003832-1723334400-1723420799@staging.lakeshrine.org
SUMMARY:Sunday Events
DESCRIPTION:Inspirational Service: 9 AM – 10 AM \nTemple gate opens at 8:15 AM.\nParking is available ONLY at the Temple level.\nNo Sunday School offered for this service \nInspirational Service: 11 AM – 12 PM\n\nParking is available at the Temple and Lake from 10:15 AM.\nSunday School is offered during this service.\nQuestions: https://staging.lakeshrine.org/sunday-school/ \nThe Meditation Gardens open at noon\, no reservations required! \n  \nCurious about meditation?\nTry a 30-minute guided meditation in the Windmill Chapel at 2 PM \nVisit our meditation gardens during the week and bring a friend! Our “reserve to visit” guest program is free and keeps the gardens safe and sacred. To reserve:  https://staging.lakeshrine.org/guest-agreements/ \n  \n  \nEvening Meditation with Devotional Chanting: 6 PM – 9 PM \n \n  \n5:40 PM Energization Exercises in the Temple Courtyard\n6 PM Meditation Begins\n9 PM Meditation Ends \n  \n  \nNew to Lake Shrine?\nWelcome!\nWe would love to connect with you!\nStop by the Welcome Table in the foyer!\nWe can answer your questions!
URL:https://staging.lakeshrine.org/event/sunday-events-with-pics-draft-2/2024-08-11/
LOCATION:Lake Shrine Temple\, Lake Shrine 17080 Sunset Blvd.\, Pacific Palisades\, CA\, 90272\, United States
CATEGORIES:Meditations & Inspirational Services
END:VEVENT
BEGIN:VEVENT
DTSTART;VALUE=DATE:20240810
DTEND;VALUE=DATE:20240811
DTSTAMP:20260425T060407
CREATED:20240521T184328Z
LAST-MODIFIED:20240521T184328Z
UID:10004125-1723248000-1723334399@staging.lakeshrine.org
SUMMARY:Reserve to Visit
DESCRIPTION:Come be our guest today! https://staging.lakeshrine.org/meditation-gardens/ \nReservations open every Saturday at 10 AM PST for the week ahead. \nStart your reservation here:   https://staging.lakeshrine.org/guest-agreements/ \nComplete the steps. \nYou will receive an email confirmation. \nWhy reservations? https://staging.lakeshrine.org/why-do-we-require-reservations/
URL:https://staging.lakeshrine.org/event/reserve-to-visit/2024-08-10/
CATEGORIES:Meditation Gardens
END:VEVENT
BEGIN:VEVENT
DTSTART;VALUE=DATE:20240809
DTEND;VALUE=DATE:20240810
DTSTAMP:20260425T060407
CREATED:20240521T184328Z
LAST-MODIFIED:20240521T184328Z
UID:10004124-1723161600-1723247999@staging.lakeshrine.org
SUMMARY:Reserve to Visit
DESCRIPTION:Come be our guest today! https://staging.lakeshrine.org/meditation-gardens/ \nReservations open every Saturday at 10 AM PST for the week ahead. \nStart your reservation here:   https://staging.lakeshrine.org/guest-agreements/ \nComplete the steps. \nYou will receive an email confirmation. \nWhy reservations? https://staging.lakeshrine.org/why-do-we-require-reservations/
URL:https://staging.lakeshrine.org/event/reserve-to-visit/2024-08-09/
CATEGORIES:Meditation Gardens
END:VEVENT
BEGIN:VEVENT
DTSTART;VALUE=DATE:20240808
DTEND;VALUE=DATE:20240809
DTSTAMP:20260425T060407
CREATED:20240521T184328Z
LAST-MODIFIED:20240521T184328Z
UID:10004123-1723075200-1723161599@staging.lakeshrine.org
SUMMARY:Reserve to Visit
DESCRIPTION:Come be our guest today! https://staging.lakeshrine.org/meditation-gardens/ \nReservations open every Saturday at 10 AM PST for the week ahead. \nStart your reservation here:   https://staging.lakeshrine.org/guest-agreements/ \nComplete the steps. \nYou will receive an email confirmation. \nWhy reservations? https://staging.lakeshrine.org/why-do-we-require-reservations/
URL:https://staging.lakeshrine.org/event/reserve-to-visit/2024-08-08/
CATEGORIES:Meditation Gardens
END:VEVENT
BEGIN:VEVENT
DTSTART;VALUE=DATE:20240807
DTEND;VALUE=DATE:20240808
DTSTAMP:20260425T060407
CREATED:20240521T184328Z
LAST-MODIFIED:20240521T184328Z
UID:10004122-1722988800-1723075199@staging.lakeshrine.org
SUMMARY:Reserve to Visit
DESCRIPTION:Come be our guest today! https://staging.lakeshrine.org/meditation-gardens/ \nReservations open every Saturday at 10 AM PST for the week ahead. \nStart your reservation here:   https://staging.lakeshrine.org/guest-agreements/ \nComplete the steps. \nYou will receive an email confirmation. \nWhy reservations? https://staging.lakeshrine.org/why-do-we-require-reservations/
URL:https://staging.lakeshrine.org/event/reserve-to-visit/2024-08-07/
CATEGORIES:Meditation Gardens
END:VEVENT
BEGIN:VEVENT
DTSTART;VALUE=DATE:20240806
DTEND;VALUE=DATE:20240807
DTSTAMP:20260425T060407
CREATED:20230315T180157Z
LAST-MODIFIED:20240515T195237Z
UID:10000149-1722902400-1722988799@staging.lakeshrine.org
SUMMARY:Lake Shrine Closed
DESCRIPTION:Lake Shrine is closed today. \nReserve to visit: https://staging.lakeshrine.org/guest-agreements/ \nOr join us on Sunday morning in our temple!  Then meditate in the gardens! \nNo reservations are required on Sunday mornings!
URL:https://staging.lakeshrine.org/event/lake-shrine-grounds-and-temple-closed/2024-08-06/
CATEGORIES:Closures
END:VEVENT
BEGIN:VEVENT
DTSTART;VALUE=DATE:20240805
DTEND;VALUE=DATE:20240806
DTSTAMP:20260425T060407
CREATED:20230315T180157Z
LAST-MODIFIED:20240515T195237Z
UID:10000148-1722816000-1722902399@staging.lakeshrine.org
SUMMARY:Lake Shrine Closed
DESCRIPTION:Lake Shrine is closed today. \nReserve to visit: https://staging.lakeshrine.org/guest-agreements/ \nOr join us on Sunday morning in our temple!  Then meditate in the gardens! \nNo reservations are required on Sunday mornings!
URL:https://staging.lakeshrine.org/event/lake-shrine-grounds-and-temple-closed/2024-08-05/
CATEGORIES:Closures
END:VEVENT
BEGIN:VEVENT
DTSTART;TZID=America/Los_Angeles:20240804T123000
DTEND;TZID=America/Los_Angeles:20240804T133000
DTSTAMP:20260425T060407
CREATED:20240727T033839Z
LAST-MODIFIED:20240727T033839Z
UID:10007549-1722774600-1722778200@staging.lakeshrine.org
SUMMARY:Docent Tour
DESCRIPTION:Docent-led tour which starts at the bottom of the stairs to the lake. \nThe tour includes a history of the property and stories of Paramahansa Yogananda’s time at Lake Shrine. \nFor history buffs:  https://staging.lakeshrine.org/about-lake-shrine/history/
URL:https://staging.lakeshrine.org/event/docent-tour-6/
LOCATION:Lake Shrine Temple\, Lake Shrine 17080 Sunset Blvd.\, Pacific Palisades\, CA\, 90272\, United States
CATEGORIES:Meditation Gardens
END:VEVENT
BEGIN:VEVENT
DTSTART;TZID=America/Los_Angeles:20240804T120000
DTEND;TZID=America/Los_Angeles:20240804T140000
DTSTAMP:20260425T060407
CREATED:20240707T214904Z
LAST-MODIFIED:20240707T220333Z
UID:10007524-1722772800-1722780000@staging.lakeshrine.org
SUMMARY:Friendship Tea
DESCRIPTION:Join us for fresh bakery and hot beverages in the Courtyard! \nForge meaningful connections with fellow devotees. \nVisit informally with Ministers.
URL:https://staging.lakeshrine.org/event/friendship-tea-6/
LOCATION:Lake Shrine Temple\, Lake Shrine 17080 Sunset Blvd.\, Pacific Palisades\, CA\, 90272\, United States
CATEGORIES:Hosted Reception,Social Events
END:VEVENT
BEGIN:VEVENT
DTSTART;VALUE=DATE:20240804
DTEND;VALUE=DATE:20240805
DTSTAMP:20260425T060407
CREATED:20240524T210958Z
LAST-MODIFIED:20240605T204542Z
UID:10003831-1722729600-1722815999@staging.lakeshrine.org
SUMMARY:Sunday Events
DESCRIPTION:Inspirational Service: 9 AM – 10 AM \nTemple gate opens at 8:15 AM.\nParking is available ONLY at the Temple level.\nNo Sunday School offered for this service \nInspirational Service: 11 AM – 12 PM\n\nParking is available at the Temple and Lake from 10:15 AM.\nSunday School is offered during this service.\nQuestions: https://staging.lakeshrine.org/sunday-school/ \nThe Meditation Gardens open at noon\, no reservations required! \n  \nCurious about meditation?\nTry a 30-minute guided meditation in the Windmill Chapel at 2 PM \nVisit our meditation gardens during the week and bring a friend! Our “reserve to visit” guest program is free and keeps the gardens safe and sacred. To reserve:  https://staging.lakeshrine.org/guest-agreements/ \n  \n  \nEvening Meditation with Devotional Chanting: 6 PM – 9 PM \n \n  \n5:40 PM Energization Exercises in the Temple Courtyard\n6 PM Meditation Begins\n9 PM Meditation Ends \n  \n  \nNew to Lake Shrine?\nWelcome!\nWe would love to connect with you!\nStop by the Welcome Table in the foyer!\nWe can answer your questions!
URL:https://staging.lakeshrine.org/event/sunday-events-with-pics-draft-2/2024-08-04/
LOCATION:Lake Shrine Temple\, Lake Shrine 17080 Sunset Blvd.\, Pacific Palisades\, CA\, 90272\, United States
CATEGORIES:Meditations & Inspirational Services
END:VEVENT
BEGIN:VEVENT
DTSTART;VALUE=DATE:20240803
DTEND;VALUE=DATE:20240804
DTSTAMP:20260425T060407
CREATED:20240521T184328Z
LAST-MODIFIED:20240521T184328Z
UID:10004121-1722643200-1722729599@staging.lakeshrine.org
SUMMARY:Reserve to Visit
DESCRIPTION:Come be our guest today! https://staging.lakeshrine.org/meditation-gardens/ \nReservations open every Saturday at 10 AM PST for the week ahead. \nStart your reservation here:   https://staging.lakeshrine.org/guest-agreements/ \nComplete the steps. \nYou will receive an email confirmation. \nWhy reservations? https://staging.lakeshrine.org/why-do-we-require-reservations/
URL:https://staging.lakeshrine.org/event/reserve-to-visit/2024-08-03/
CATEGORIES:Meditation Gardens
END:VEVENT
END:VCALENDAR