BEGIN:VCALENDAR
VERSION:2.0
PRODID:-//Self-Realization Fellowship Lake Shrine - ECPv6.6.1//NONSGML v1.0//EN
CALSCALE:GREGORIAN
METHOD:PUBLISH
X-WR-CALNAME:Self-Realization Fellowship Lake Shrine
X-ORIGINAL-URL:https://staging.lakeshrine.org
X-WR-CALDESC:Events for Self-Realization Fellowship Lake Shrine
REFRESH-INTERVAL;VALUE=DURATION:PT1H
X-Robots-Tag:noindex
X-PUBLISHED-TTL:PT1H
BEGIN:VTIMEZONE
TZID:America/Los_Angeles
BEGIN:DAYLIGHT
TZOFFSETFROM:-0800
TZOFFSETTO:-0700
TZNAME:PDT
DTSTART:20250309T100000
END:DAYLIGHT
BEGIN:STANDARD
TZOFFSETFROM:-0700
TZOFFSETTO:-0800
TZNAME:PST
DTSTART:20251102T090000
END:STANDARD
END:VTIMEZONE
BEGIN:VEVENT
DTSTART;VALUE=DATE:20250221
DTEND;VALUE=DATE:20250222
DTSTAMP:20260423T162806
CREATED:20240521T184328Z
LAST-MODIFIED:20240521T184328Z
UID:10004236-1740096000-1740182399@staging.lakeshrine.org
SUMMARY:Reserve to Visit
DESCRIPTION:Come be our guest today! https://staging.lakeshrine.org/meditation-gardens/ \nReservations open every Saturday at 10 AM PST for the week ahead. \nStart your reservation here:   https://staging.lakeshrine.org/guest-agreements/ \nComplete the steps. \nYou will receive an email confirmation. \nWhy reservations? https://staging.lakeshrine.org/why-do-we-require-reservations/
URL:https://staging.lakeshrine.org/event/reserve-to-visit/2025-02-21/
CATEGORIES:Meditation Gardens
END:VEVENT
BEGIN:VEVENT
DTSTART;VALUE=DATE:20250220
DTEND;VALUE=DATE:20250221
DTSTAMP:20260423T162806
CREATED:20240521T184328Z
LAST-MODIFIED:20240521T184328Z
UID:10004235-1740009600-1740095999@staging.lakeshrine.org
SUMMARY:Reserve to Visit
DESCRIPTION:Come be our guest today! https://staging.lakeshrine.org/meditation-gardens/ \nReservations open every Saturday at 10 AM PST for the week ahead. \nStart your reservation here:   https://staging.lakeshrine.org/guest-agreements/ \nComplete the steps. \nYou will receive an email confirmation. \nWhy reservations? https://staging.lakeshrine.org/why-do-we-require-reservations/
URL:https://staging.lakeshrine.org/event/reserve-to-visit/2025-02-20/
CATEGORIES:Meditation Gardens
END:VEVENT
BEGIN:VEVENT
DTSTART;VALUE=DATE:20250219
DTEND;VALUE=DATE:20250220
DTSTAMP:20260423T162806
CREATED:20240521T184328Z
LAST-MODIFIED:20240521T184328Z
UID:10004234-1739923200-1740009599@staging.lakeshrine.org
SUMMARY:Reserve to Visit
DESCRIPTION:Come be our guest today! https://staging.lakeshrine.org/meditation-gardens/ \nReservations open every Saturday at 10 AM PST for the week ahead. \nStart your reservation here:   https://staging.lakeshrine.org/guest-agreements/ \nComplete the steps. \nYou will receive an email confirmation. \nWhy reservations? https://staging.lakeshrine.org/why-do-we-require-reservations/
URL:https://staging.lakeshrine.org/event/reserve-to-visit/2025-02-19/
CATEGORIES:Meditation Gardens
END:VEVENT
BEGIN:VEVENT
DTSTART;VALUE=DATE:20250218
DTEND;VALUE=DATE:20250219
DTSTAMP:20260423T162806
CREATED:20230315T180157Z
LAST-MODIFIED:20240515T195237Z
UID:10000205-1739836800-1739923199@staging.lakeshrine.org
SUMMARY:Lake Shrine Closed
DESCRIPTION:Lake Shrine is closed today. \nReserve to visit: https://staging.lakeshrine.org/guest-agreements/ \nOr join us on Sunday morning in our temple!  Then meditate in the gardens! \nNo reservations are required on Sunday mornings!
URL:https://staging.lakeshrine.org/event/lake-shrine-grounds-and-temple-closed/2025-02-18/
CATEGORIES:Closures
END:VEVENT
BEGIN:VEVENT
DTSTART;VALUE=DATE:20250217
DTEND;VALUE=DATE:20250218
DTSTAMP:20260423T162806
CREATED:20230315T180157Z
LAST-MODIFIED:20240515T195237Z
UID:10000204-1739750400-1739836799@staging.lakeshrine.org
SUMMARY:Lake Shrine Closed
DESCRIPTION:Lake Shrine is closed today. \nReserve to visit: https://staging.lakeshrine.org/guest-agreements/ \nOr join us on Sunday morning in our temple!  Then meditate in the gardens! \nNo reservations are required on Sunday mornings!
URL:https://staging.lakeshrine.org/event/lake-shrine-grounds-and-temple-closed/2025-02-17/
CATEGORIES:Closures
END:VEVENT
BEGIN:VEVENT
DTSTART;VALUE=DATE:20250216
DTEND;VALUE=DATE:20250217
DTSTAMP:20260423T162806
CREATED:20240524T210958Z
LAST-MODIFIED:20240605T204542Z
UID:10003859-1739664000-1739750399@staging.lakeshrine.org
SUMMARY:Sunday Events
DESCRIPTION:Inspirational Service: 9 AM – 10 AM \nTemple gate opens at 8:15 AM.\nParking is available ONLY at the Temple level.\nNo Sunday School offered for this service \nInspirational Service: 11 AM – 12 PM\n\nParking is available at the Temple and Lake from 10:15 AM.\nSunday School is offered during this service.\nQuestions: https://staging.lakeshrine.org/sunday-school/ \nThe Meditation Gardens open at noon\, no reservations required! \n  \nCurious about meditation?\nTry a 30-minute guided meditation in the Windmill Chapel at 2 PM \nVisit our meditation gardens during the week and bring a friend! Our “reserve to visit” guest program is free and keeps the gardens safe and sacred. To reserve:  https://staging.lakeshrine.org/guest-agreements/ \n  \n  \nEvening Meditation with Devotional Chanting: 6 PM – 9 PM \n \n  \n5:40 PM Energization Exercises in the Temple Courtyard\n6 PM Meditation Begins\n9 PM Meditation Ends \n  \n  \nNew to Lake Shrine?\nWelcome!\nWe would love to connect with you!\nStop by the Welcome Table in the foyer!\nWe can answer your questions!
URL:https://staging.lakeshrine.org/event/sunday-events-with-pics-draft-2/2025-02-16/
LOCATION:Lake Shrine Temple\, Lake Shrine 17080 Sunset Blvd.\, Pacific Palisades\, CA\, 90272\, United States
CATEGORIES:Meditations & Inspirational Services
END:VEVENT
BEGIN:VEVENT
DTSTART;VALUE=DATE:20250215
DTEND;VALUE=DATE:20250216
DTSTAMP:20260423T162806
CREATED:20240521T184328Z
LAST-MODIFIED:20240521T184328Z
UID:10004233-1739577600-1739663999@staging.lakeshrine.org
SUMMARY:Reserve to Visit
DESCRIPTION:Come be our guest today! https://staging.lakeshrine.org/meditation-gardens/ \nReservations open every Saturday at 10 AM PST for the week ahead. \nStart your reservation here:   https://staging.lakeshrine.org/guest-agreements/ \nComplete the steps. \nYou will receive an email confirmation. \nWhy reservations? https://staging.lakeshrine.org/why-do-we-require-reservations/
URL:https://staging.lakeshrine.org/event/reserve-to-visit/2025-02-15/
CATEGORIES:Meditation Gardens
END:VEVENT
BEGIN:VEVENT
DTSTART;VALUE=DATE:20250214
DTEND;VALUE=DATE:20250215
DTSTAMP:20260423T162806
CREATED:20240521T184328Z
LAST-MODIFIED:20240521T184328Z
UID:10004232-1739491200-1739577599@staging.lakeshrine.org
SUMMARY:Reserve to Visit
DESCRIPTION:Come be our guest today! https://staging.lakeshrine.org/meditation-gardens/ \nReservations open every Saturday at 10 AM PST for the week ahead. \nStart your reservation here:   https://staging.lakeshrine.org/guest-agreements/ \nComplete the steps. \nYou will receive an email confirmation. \nWhy reservations? https://staging.lakeshrine.org/why-do-we-require-reservations/
URL:https://staging.lakeshrine.org/event/reserve-to-visit/2025-02-14/
CATEGORIES:Meditation Gardens
END:VEVENT
BEGIN:VEVENT
DTSTART;VALUE=DATE:20250213
DTEND;VALUE=DATE:20250214
DTSTAMP:20260423T162806
CREATED:20240521T184328Z
LAST-MODIFIED:20240521T184328Z
UID:10004231-1739404800-1739491199@staging.lakeshrine.org
SUMMARY:Reserve to Visit
DESCRIPTION:Come be our guest today! https://staging.lakeshrine.org/meditation-gardens/ \nReservations open every Saturday at 10 AM PST for the week ahead. \nStart your reservation here:   https://staging.lakeshrine.org/guest-agreements/ \nComplete the steps. \nYou will receive an email confirmation. \nWhy reservations? https://staging.lakeshrine.org/why-do-we-require-reservations/
URL:https://staging.lakeshrine.org/event/reserve-to-visit/2025-02-13/
CATEGORIES:Meditation Gardens
END:VEVENT
BEGIN:VEVENT
DTSTART;VALUE=DATE:20250212
DTEND;VALUE=DATE:20250213
DTSTAMP:20260423T162806
CREATED:20240521T184328Z
LAST-MODIFIED:20240521T184328Z
UID:10004230-1739318400-1739404799@staging.lakeshrine.org
SUMMARY:Reserve to Visit
DESCRIPTION:Come be our guest today! https://staging.lakeshrine.org/meditation-gardens/ \nReservations open every Saturday at 10 AM PST for the week ahead. \nStart your reservation here:   https://staging.lakeshrine.org/guest-agreements/ \nComplete the steps. \nYou will receive an email confirmation. \nWhy reservations? https://staging.lakeshrine.org/why-do-we-require-reservations/
URL:https://staging.lakeshrine.org/event/reserve-to-visit/2025-02-12/
CATEGORIES:Meditation Gardens
END:VEVENT
BEGIN:VEVENT
DTSTART;VALUE=DATE:20250211
DTEND;VALUE=DATE:20250212
DTSTAMP:20260423T162806
CREATED:20230315T180157Z
LAST-MODIFIED:20240515T195237Z
UID:10000203-1739232000-1739318399@staging.lakeshrine.org
SUMMARY:Lake Shrine Closed
DESCRIPTION:Lake Shrine is closed today. \nReserve to visit: https://staging.lakeshrine.org/guest-agreements/ \nOr join us on Sunday morning in our temple!  Then meditate in the gardens! \nNo reservations are required on Sunday mornings!
URL:https://staging.lakeshrine.org/event/lake-shrine-grounds-and-temple-closed/2025-02-11/
CATEGORIES:Closures
END:VEVENT
BEGIN:VEVENT
DTSTART;VALUE=DATE:20250210
DTEND;VALUE=DATE:20250211
DTSTAMP:20260423T162806
CREATED:20230315T180157Z
LAST-MODIFIED:20240515T195237Z
UID:10000202-1739145600-1739231999@staging.lakeshrine.org
SUMMARY:Lake Shrine Closed
DESCRIPTION:Lake Shrine is closed today. \nReserve to visit: https://staging.lakeshrine.org/guest-agreements/ \nOr join us on Sunday morning in our temple!  Then meditate in the gardens! \nNo reservations are required on Sunday mornings!
URL:https://staging.lakeshrine.org/event/lake-shrine-grounds-and-temple-closed/2025-02-10/
CATEGORIES:Closures
END:VEVENT
BEGIN:VEVENT
DTSTART;VALUE=DATE:20250209
DTEND;VALUE=DATE:20250210
DTSTAMP:20260423T162806
CREATED:20240524T210958Z
LAST-MODIFIED:20240605T204542Z
UID:10003858-1739059200-1739145599@staging.lakeshrine.org
SUMMARY:Sunday Events
DESCRIPTION:Inspirational Service: 9 AM – 10 AM \nTemple gate opens at 8:15 AM.\nParking is available ONLY at the Temple level.\nNo Sunday School offered for this service \nInspirational Service: 11 AM – 12 PM\n\nParking is available at the Temple and Lake from 10:15 AM.\nSunday School is offered during this service.\nQuestions: https://staging.lakeshrine.org/sunday-school/ \nThe Meditation Gardens open at noon\, no reservations required! \n  \nCurious about meditation?\nTry a 30-minute guided meditation in the Windmill Chapel at 2 PM \nVisit our meditation gardens during the week and bring a friend! Our “reserve to visit” guest program is free and keeps the gardens safe and sacred. To reserve:  https://staging.lakeshrine.org/guest-agreements/ \n  \n  \nEvening Meditation with Devotional Chanting: 6 PM – 9 PM \n \n  \n5:40 PM Energization Exercises in the Temple Courtyard\n6 PM Meditation Begins\n9 PM Meditation Ends \n  \n  \nNew to Lake Shrine?\nWelcome!\nWe would love to connect with you!\nStop by the Welcome Table in the foyer!\nWe can answer your questions!
URL:https://staging.lakeshrine.org/event/sunday-events-with-pics-draft-2/2025-02-09/
LOCATION:Lake Shrine Temple\, Lake Shrine 17080 Sunset Blvd.\, Pacific Palisades\, CA\, 90272\, United States
CATEGORIES:Meditations & Inspirational Services
END:VEVENT
BEGIN:VEVENT
DTSTART;VALUE=DATE:20250208
DTEND;VALUE=DATE:20250209
DTSTAMP:20260423T162806
CREATED:20240521T184328Z
LAST-MODIFIED:20240521T184328Z
UID:10004229-1738972800-1739059199@staging.lakeshrine.org
SUMMARY:Reserve to Visit
DESCRIPTION:Come be our guest today! https://staging.lakeshrine.org/meditation-gardens/ \nReservations open every Saturday at 10 AM PST for the week ahead. \nStart your reservation here:   https://staging.lakeshrine.org/guest-agreements/ \nComplete the steps. \nYou will receive an email confirmation. \nWhy reservations? https://staging.lakeshrine.org/why-do-we-require-reservations/
URL:https://staging.lakeshrine.org/event/reserve-to-visit/2025-02-08/
CATEGORIES:Meditation Gardens
END:VEVENT
BEGIN:VEVENT
DTSTART;VALUE=DATE:20250207
DTEND;VALUE=DATE:20250208
DTSTAMP:20260423T162806
CREATED:20240521T184328Z
LAST-MODIFIED:20240521T184328Z
UID:10004228-1738886400-1738972799@staging.lakeshrine.org
SUMMARY:Reserve to Visit
DESCRIPTION:Come be our guest today! https://staging.lakeshrine.org/meditation-gardens/ \nReservations open every Saturday at 10 AM PST for the week ahead. \nStart your reservation here:   https://staging.lakeshrine.org/guest-agreements/ \nComplete the steps. \nYou will receive an email confirmation. \nWhy reservations? https://staging.lakeshrine.org/why-do-we-require-reservations/
URL:https://staging.lakeshrine.org/event/reserve-to-visit/2025-02-07/
CATEGORIES:Meditation Gardens
END:VEVENT
BEGIN:VEVENT
DTSTART;VALUE=DATE:20250206
DTEND;VALUE=DATE:20250207
DTSTAMP:20260423T162806
CREATED:20240521T184328Z
LAST-MODIFIED:20240521T184328Z
UID:10004227-1738800000-1738886399@staging.lakeshrine.org
SUMMARY:Reserve to Visit
DESCRIPTION:Come be our guest today! https://staging.lakeshrine.org/meditation-gardens/ \nReservations open every Saturday at 10 AM PST for the week ahead. \nStart your reservation here:   https://staging.lakeshrine.org/guest-agreements/ \nComplete the steps. \nYou will receive an email confirmation. \nWhy reservations? https://staging.lakeshrine.org/why-do-we-require-reservations/
URL:https://staging.lakeshrine.org/event/reserve-to-visit/2025-02-06/
CATEGORIES:Meditation Gardens
END:VEVENT
BEGIN:VEVENT
DTSTART;VALUE=DATE:20250205
DTEND;VALUE=DATE:20250206
DTSTAMP:20260423T162806
CREATED:20240521T184328Z
LAST-MODIFIED:20240521T184328Z
UID:10004226-1738713600-1738799999@staging.lakeshrine.org
SUMMARY:Reserve to Visit
DESCRIPTION:Come be our guest today! https://staging.lakeshrine.org/meditation-gardens/ \nReservations open every Saturday at 10 AM PST for the week ahead. \nStart your reservation here:   https://staging.lakeshrine.org/guest-agreements/ \nComplete the steps. \nYou will receive an email confirmation. \nWhy reservations? https://staging.lakeshrine.org/why-do-we-require-reservations/
URL:https://staging.lakeshrine.org/event/reserve-to-visit/2025-02-05/
CATEGORIES:Meditation Gardens
END:VEVENT
BEGIN:VEVENT
DTSTART;VALUE=DATE:20250204
DTEND;VALUE=DATE:20250205
DTSTAMP:20260423T162806
CREATED:20230315T180157Z
LAST-MODIFIED:20240515T195237Z
UID:10000201-1738627200-1738713599@staging.lakeshrine.org
SUMMARY:Lake Shrine Closed
DESCRIPTION:Lake Shrine is closed today. \nReserve to visit: https://staging.lakeshrine.org/guest-agreements/ \nOr join us on Sunday morning in our temple!  Then meditate in the gardens! \nNo reservations are required on Sunday mornings!
URL:https://staging.lakeshrine.org/event/lake-shrine-grounds-and-temple-closed/2025-02-04/
CATEGORIES:Closures
END:VEVENT
BEGIN:VEVENT
DTSTART;VALUE=DATE:20250203
DTEND;VALUE=DATE:20250204
DTSTAMP:20260423T162806
CREATED:20230315T180157Z
LAST-MODIFIED:20240515T195237Z
UID:10000200-1738540800-1738627199@staging.lakeshrine.org
SUMMARY:Lake Shrine Closed
DESCRIPTION:Lake Shrine is closed today. \nReserve to visit: https://staging.lakeshrine.org/guest-agreements/ \nOr join us on Sunday morning in our temple!  Then meditate in the gardens! \nNo reservations are required on Sunday mornings!
URL:https://staging.lakeshrine.org/event/lake-shrine-grounds-and-temple-closed/2025-02-03/
CATEGORIES:Closures
END:VEVENT
BEGIN:VEVENT
DTSTART;VALUE=DATE:20250202
DTEND;VALUE=DATE:20250203
DTSTAMP:20260423T162806
CREATED:20240524T210958Z
LAST-MODIFIED:20240605T204542Z
UID:10003857-1738454400-1738540799@staging.lakeshrine.org
SUMMARY:Sunday Events
DESCRIPTION:Inspirational Service: 9 AM – 10 AM \nTemple gate opens at 8:15 AM.\nParking is available ONLY at the Temple level.\nNo Sunday School offered for this service \nInspirational Service: 11 AM – 12 PM\n\nParking is available at the Temple and Lake from 10:15 AM.\nSunday School is offered during this service.\nQuestions: https://staging.lakeshrine.org/sunday-school/ \nThe Meditation Gardens open at noon\, no reservations required! \n  \nCurious about meditation?\nTry a 30-minute guided meditation in the Windmill Chapel at 2 PM \nVisit our meditation gardens during the week and bring a friend! Our “reserve to visit” guest program is free and keeps the gardens safe and sacred. To reserve:  https://staging.lakeshrine.org/guest-agreements/ \n  \n  \nEvening Meditation with Devotional Chanting: 6 PM – 9 PM \n \n  \n5:40 PM Energization Exercises in the Temple Courtyard\n6 PM Meditation Begins\n9 PM Meditation Ends \n  \n  \nNew to Lake Shrine?\nWelcome!\nWe would love to connect with you!\nStop by the Welcome Table in the foyer!\nWe can answer your questions!
URL:https://staging.lakeshrine.org/event/sunday-events-with-pics-draft-2/2025-02-02/
LOCATION:Lake Shrine Temple\, Lake Shrine 17080 Sunset Blvd.\, Pacific Palisades\, CA\, 90272\, United States
CATEGORIES:Meditations & Inspirational Services
END:VEVENT
BEGIN:VEVENT
DTSTART;VALUE=DATE:20250201
DTEND;VALUE=DATE:20250202
DTSTAMP:20260423T162806
CREATED:20240521T184328Z
LAST-MODIFIED:20240521T184328Z
UID:10004225-1738368000-1738454399@staging.lakeshrine.org
SUMMARY:Reserve to Visit
DESCRIPTION:Come be our guest today! https://staging.lakeshrine.org/meditation-gardens/ \nReservations open every Saturday at 10 AM PST for the week ahead. \nStart your reservation here:   https://staging.lakeshrine.org/guest-agreements/ \nComplete the steps. \nYou will receive an email confirmation. \nWhy reservations? https://staging.lakeshrine.org/why-do-we-require-reservations/
URL:https://staging.lakeshrine.org/event/reserve-to-visit/2025-02-01/
CATEGORIES:Meditation Gardens
END:VEVENT
BEGIN:VEVENT
DTSTART;VALUE=DATE:20250131
DTEND;VALUE=DATE:20250201
DTSTAMP:20260423T162806
CREATED:20240521T184328Z
LAST-MODIFIED:20240521T184328Z
UID:10004224-1738281600-1738367999@staging.lakeshrine.org
SUMMARY:Reserve to Visit
DESCRIPTION:Come be our guest today! https://staging.lakeshrine.org/meditation-gardens/ \nReservations open every Saturday at 10 AM PST for the week ahead. \nStart your reservation here:   https://staging.lakeshrine.org/guest-agreements/ \nComplete the steps. \nYou will receive an email confirmation. \nWhy reservations? https://staging.lakeshrine.org/why-do-we-require-reservations/
URL:https://staging.lakeshrine.org/event/reserve-to-visit/2025-01-31/
CATEGORIES:Meditation Gardens
END:VEVENT
BEGIN:VEVENT
DTSTART;VALUE=DATE:20250130
DTEND;VALUE=DATE:20250131
DTSTAMP:20260423T162806
CREATED:20240521T184328Z
LAST-MODIFIED:20240521T184328Z
UID:10004223-1738195200-1738281599@staging.lakeshrine.org
SUMMARY:Reserve to Visit
DESCRIPTION:Come be our guest today! https://staging.lakeshrine.org/meditation-gardens/ \nReservations open every Saturday at 10 AM PST for the week ahead. \nStart your reservation here:   https://staging.lakeshrine.org/guest-agreements/ \nComplete the steps. \nYou will receive an email confirmation. \nWhy reservations? https://staging.lakeshrine.org/why-do-we-require-reservations/
URL:https://staging.lakeshrine.org/event/reserve-to-visit/2025-01-30/
CATEGORIES:Meditation Gardens
END:VEVENT
BEGIN:VEVENT
DTSTART;VALUE=DATE:20250129
DTEND;VALUE=DATE:20250130
DTSTAMP:20260423T162806
CREATED:20240521T184328Z
LAST-MODIFIED:20240521T184328Z
UID:10004222-1738108800-1738195199@staging.lakeshrine.org
SUMMARY:Reserve to Visit
DESCRIPTION:Come be our guest today! https://staging.lakeshrine.org/meditation-gardens/ \nReservations open every Saturday at 10 AM PST for the week ahead. \nStart your reservation here:   https://staging.lakeshrine.org/guest-agreements/ \nComplete the steps. \nYou will receive an email confirmation. \nWhy reservations? https://staging.lakeshrine.org/why-do-we-require-reservations/
URL:https://staging.lakeshrine.org/event/reserve-to-visit/2025-01-29/
CATEGORIES:Meditation Gardens
END:VEVENT
BEGIN:VEVENT
DTSTART;TZID=America/Los_Angeles:20250128T190000
DTEND;TZID=America/Los_Angeles:20250128T210000
DTSTAMP:20260423T162806
CREATED:20240509T005646Z
LAST-MODIFIED:20240509T010129Z
UID:10001070-1738090800-1738098000@staging.lakeshrine.org
SUMMARY:Lake Shrine Kriyaban Disciples
DESCRIPTION:  \nWe are on Summer Recess!  Join us at Convocation! \n  \nParamahansa Yogananda\, photographed on August 20\, 1950\, at the dedication of Self-Realization Fellowship Lake Shrine\, Pacific Palisades\, CA. \n  \n  \n 
URL:https://staging.lakeshrine.org/event/lake-shrine-kriyaban-disciples-8/2025-01-28/
CATEGORIES:Meditations & Inspirational Services,Minister-led Events,Other Events
END:VEVENT
BEGIN:VEVENT
DTSTART;VALUE=DATE:20250128
DTEND;VALUE=DATE:20250129
DTSTAMP:20260423T162806
CREATED:20230315T180157Z
LAST-MODIFIED:20240515T195237Z
UID:10000199-1738022400-1738108799@staging.lakeshrine.org
SUMMARY:Lake Shrine Closed
DESCRIPTION:Lake Shrine is closed today. \nReserve to visit: https://staging.lakeshrine.org/guest-agreements/ \nOr join us on Sunday morning in our temple!  Then meditate in the gardens! \nNo reservations are required on Sunday mornings!
URL:https://staging.lakeshrine.org/event/lake-shrine-grounds-and-temple-closed/2025-01-28/
CATEGORIES:Closures
END:VEVENT
BEGIN:VEVENT
DTSTART;VALUE=DATE:20250127
DTEND;VALUE=DATE:20250128
DTSTAMP:20260423T162806
CREATED:20230315T180157Z
LAST-MODIFIED:20240515T195237Z
UID:10000198-1737936000-1738022399@staging.lakeshrine.org
SUMMARY:Lake Shrine Closed
DESCRIPTION:Lake Shrine is closed today. \nReserve to visit: https://staging.lakeshrine.org/guest-agreements/ \nOr join us on Sunday morning in our temple!  Then meditate in the gardens! \nNo reservations are required on Sunday mornings!
URL:https://staging.lakeshrine.org/event/lake-shrine-grounds-and-temple-closed/2025-01-27/
CATEGORIES:Closures
END:VEVENT
BEGIN:VEVENT
DTSTART;VALUE=DATE:20250126
DTEND;VALUE=DATE:20250127
DTSTAMP:20260423T162806
CREATED:20240524T210958Z
LAST-MODIFIED:20240605T204542Z
UID:10003856-1737849600-1737935999@staging.lakeshrine.org
SUMMARY:Sunday Events
DESCRIPTION:Inspirational Service: 9 AM – 10 AM \nTemple gate opens at 8:15 AM.\nParking is available ONLY at the Temple level.\nNo Sunday School offered for this service \nInspirational Service: 11 AM – 12 PM\n\nParking is available at the Temple and Lake from 10:15 AM.\nSunday School is offered during this service.\nQuestions: https://staging.lakeshrine.org/sunday-school/ \nThe Meditation Gardens open at noon\, no reservations required! \n  \nCurious about meditation?\nTry a 30-minute guided meditation in the Windmill Chapel at 2 PM \nVisit our meditation gardens during the week and bring a friend! Our “reserve to visit” guest program is free and keeps the gardens safe and sacred. To reserve:  https://staging.lakeshrine.org/guest-agreements/ \n  \n  \nEvening Meditation with Devotional Chanting: 6 PM – 9 PM \n \n  \n5:40 PM Energization Exercises in the Temple Courtyard\n6 PM Meditation Begins\n9 PM Meditation Ends \n  \n  \nNew to Lake Shrine?\nWelcome!\nWe would love to connect with you!\nStop by the Welcome Table in the foyer!\nWe can answer your questions!
URL:https://staging.lakeshrine.org/event/sunday-events-with-pics-draft-2/2025-01-26/
LOCATION:Lake Shrine Temple\, Lake Shrine 17080 Sunset Blvd.\, Pacific Palisades\, CA\, 90272\, United States
CATEGORIES:Meditations & Inspirational Services
END:VEVENT
BEGIN:VEVENT
DTSTART;VALUE=DATE:20250125
DTEND;VALUE=DATE:20250126
DTSTAMP:20260423T162806
CREATED:20240521T184328Z
LAST-MODIFIED:20240521T184328Z
UID:10004221-1737763200-1737849599@staging.lakeshrine.org
SUMMARY:Reserve to Visit
DESCRIPTION:Come be our guest today! https://staging.lakeshrine.org/meditation-gardens/ \nReservations open every Saturday at 10 AM PST for the week ahead. \nStart your reservation here:   https://staging.lakeshrine.org/guest-agreements/ \nComplete the steps. \nYou will receive an email confirmation. \nWhy reservations? https://staging.lakeshrine.org/why-do-we-require-reservations/
URL:https://staging.lakeshrine.org/event/reserve-to-visit/2025-01-25/
CATEGORIES:Meditation Gardens
END:VEVENT
BEGIN:VEVENT
DTSTART;VALUE=DATE:20250124
DTEND;VALUE=DATE:20250125
DTSTAMP:20260423T162806
CREATED:20240521T184328Z
LAST-MODIFIED:20240521T184328Z
UID:10004220-1737676800-1737763199@staging.lakeshrine.org
SUMMARY:Reserve to Visit
DESCRIPTION:Come be our guest today! https://staging.lakeshrine.org/meditation-gardens/ \nReservations open every Saturday at 10 AM PST for the week ahead. \nStart your reservation here:   https://staging.lakeshrine.org/guest-agreements/ \nComplete the steps. \nYou will receive an email confirmation. \nWhy reservations? https://staging.lakeshrine.org/why-do-we-require-reservations/
URL:https://staging.lakeshrine.org/event/reserve-to-visit/2025-01-24/
CATEGORIES:Meditation Gardens
END:VEVENT
END:VCALENDAR