BEGIN:VCALENDAR
VERSION:2.0
PRODID:-//Self-Realization Fellowship Lake Shrine - ECPv6.6.1//NONSGML v1.0//EN
CALSCALE:GREGORIAN
METHOD:PUBLISH
X-WR-CALNAME:Self-Realization Fellowship Lake Shrine
X-ORIGINAL-URL:https://staging.lakeshrine.org
X-WR-CALDESC:Events for Self-Realization Fellowship Lake Shrine
REFRESH-INTERVAL;VALUE=DURATION:PT1H
X-Robots-Tag:noindex
X-PUBLISHED-TTL:PT1H
BEGIN:VTIMEZONE
TZID:America/Los_Angeles
BEGIN:DAYLIGHT
TZOFFSETFROM:-0800
TZOFFSETTO:-0700
TZNAME:PDT
DTSTART:20250309T100000
END:DAYLIGHT
BEGIN:STANDARD
TZOFFSETFROM:-0700
TZOFFSETTO:-0800
TZNAME:PST
DTSTART:20251102T090000
END:STANDARD
END:VTIMEZONE
BEGIN:VEVENT
DTSTART;VALUE=DATE:20250404
DTEND;VALUE=DATE:20250405
DTSTAMP:20260423T095408
CREATED:20240521T184328Z
LAST-MODIFIED:20240521T184328Z
UID:10004260-1743724800-1743811199@staging.lakeshrine.org
SUMMARY:Reserve to Visit
DESCRIPTION:Come be our guest today! https://staging.lakeshrine.org/meditation-gardens/ \nReservations open every Saturday at 10 AM PST for the week ahead. \nStart your reservation here:   https://staging.lakeshrine.org/guest-agreements/ \nComplete the steps. \nYou will receive an email confirmation. \nWhy reservations? https://staging.lakeshrine.org/why-do-we-require-reservations/
URL:https://staging.lakeshrine.org/event/reserve-to-visit/2025-04-04/
CATEGORIES:Meditation Gardens
END:VEVENT
BEGIN:VEVENT
DTSTART;VALUE=DATE:20250403
DTEND;VALUE=DATE:20250404
DTSTAMP:20260423T095408
CREATED:20240521T184328Z
LAST-MODIFIED:20240521T184328Z
UID:10004259-1743638400-1743724799@staging.lakeshrine.org
SUMMARY:Reserve to Visit
DESCRIPTION:Come be our guest today! https://staging.lakeshrine.org/meditation-gardens/ \nReservations open every Saturday at 10 AM PST for the week ahead. \nStart your reservation here:   https://staging.lakeshrine.org/guest-agreements/ \nComplete the steps. \nYou will receive an email confirmation. \nWhy reservations? https://staging.lakeshrine.org/why-do-we-require-reservations/
URL:https://staging.lakeshrine.org/event/reserve-to-visit/2025-04-03/
CATEGORIES:Meditation Gardens
END:VEVENT
BEGIN:VEVENT
DTSTART;VALUE=DATE:20250402
DTEND;VALUE=DATE:20250403
DTSTAMP:20260423T095408
CREATED:20240521T184328Z
LAST-MODIFIED:20240521T184328Z
UID:10004258-1743552000-1743638399@staging.lakeshrine.org
SUMMARY:Reserve to Visit
DESCRIPTION:Come be our guest today! https://staging.lakeshrine.org/meditation-gardens/ \nReservations open every Saturday at 10 AM PST for the week ahead. \nStart your reservation here:   https://staging.lakeshrine.org/guest-agreements/ \nComplete the steps. \nYou will receive an email confirmation. \nWhy reservations? https://staging.lakeshrine.org/why-do-we-require-reservations/
URL:https://staging.lakeshrine.org/event/reserve-to-visit/2025-04-02/
CATEGORIES:Meditation Gardens
END:VEVENT
BEGIN:VEVENT
DTSTART;VALUE=DATE:20250401
DTEND;VALUE=DATE:20250402
DTSTAMP:20260423T095408
CREATED:20230315T180157Z
LAST-MODIFIED:20240515T195237Z
UID:10001570-1743465600-1743551999@staging.lakeshrine.org
SUMMARY:Lake Shrine Closed
DESCRIPTION:Lake Shrine is closed today. \nReserve to visit: https://staging.lakeshrine.org/guest-agreements/ \nOr join us on Sunday morning in our temple!  Then meditate in the gardens! \nNo reservations are required on Sunday mornings!
URL:https://staging.lakeshrine.org/event/lake-shrine-grounds-and-temple-closed/2025-04-01/
CATEGORIES:Closures
END:VEVENT
BEGIN:VEVENT
DTSTART;VALUE=DATE:20250331
DTEND;VALUE=DATE:20250401
DTSTAMP:20260423T095408
CREATED:20230315T180157Z
LAST-MODIFIED:20240515T195237Z
UID:10001569-1743379200-1743465599@staging.lakeshrine.org
SUMMARY:Lake Shrine Closed
DESCRIPTION:Lake Shrine is closed today. \nReserve to visit: https://staging.lakeshrine.org/guest-agreements/ \nOr join us on Sunday morning in our temple!  Then meditate in the gardens! \nNo reservations are required on Sunday mornings!
URL:https://staging.lakeshrine.org/event/lake-shrine-grounds-and-temple-closed/2025-03-31/
CATEGORIES:Closures
END:VEVENT
BEGIN:VEVENT
DTSTART;VALUE=DATE:20250330
DTEND;VALUE=DATE:20250331
DTSTAMP:20260423T095408
CREATED:20240524T210958Z
LAST-MODIFIED:20240605T204542Z
UID:10003865-1743292800-1743379199@staging.lakeshrine.org
SUMMARY:Sunday Events
DESCRIPTION:Inspirational Service: 9 AM – 10 AM \nTemple gate opens at 8:15 AM.\nParking is available ONLY at the Temple level.\nNo Sunday School offered for this service \nInspirational Service: 11 AM – 12 PM\n\nParking is available at the Temple and Lake from 10:15 AM.\nSunday School is offered during this service.\nQuestions: https://staging.lakeshrine.org/sunday-school/ \nThe Meditation Gardens open at noon\, no reservations required! \n  \nCurious about meditation?\nTry a 30-minute guided meditation in the Windmill Chapel at 2 PM \nVisit our meditation gardens during the week and bring a friend! Our “reserve to visit” guest program is free and keeps the gardens safe and sacred. To reserve:  https://staging.lakeshrine.org/guest-agreements/ \n  \n  \nEvening Meditation with Devotional Chanting: 6 PM – 9 PM \n \n  \n5:40 PM Energization Exercises in the Temple Courtyard\n6 PM Meditation Begins\n9 PM Meditation Ends \n  \n  \nNew to Lake Shrine?\nWelcome!\nWe would love to connect with you!\nStop by the Welcome Table in the foyer!\nWe can answer your questions!
URL:https://staging.lakeshrine.org/event/sunday-events-with-pics-draft-2/2025-03-30/
LOCATION:Lake Shrine Temple\, Lake Shrine 17080 Sunset Blvd.\, Pacific Palisades\, CA\, 90272\, United States
CATEGORIES:Meditations & Inspirational Services
END:VEVENT
BEGIN:VEVENT
DTSTART;VALUE=DATE:20250329
DTEND;VALUE=DATE:20250330
DTSTAMP:20260423T095408
CREATED:20240521T184328Z
LAST-MODIFIED:20240521T184328Z
UID:10004257-1743206400-1743292799@staging.lakeshrine.org
SUMMARY:Reserve to Visit
DESCRIPTION:Come be our guest today! https://staging.lakeshrine.org/meditation-gardens/ \nReservations open every Saturday at 10 AM PST for the week ahead. \nStart your reservation here:   https://staging.lakeshrine.org/guest-agreements/ \nComplete the steps. \nYou will receive an email confirmation. \nWhy reservations? https://staging.lakeshrine.org/why-do-we-require-reservations/
URL:https://staging.lakeshrine.org/event/reserve-to-visit/2025-03-29/
CATEGORIES:Meditation Gardens
END:VEVENT
BEGIN:VEVENT
DTSTART;VALUE=DATE:20250328
DTEND;VALUE=DATE:20250329
DTSTAMP:20260423T095408
CREATED:20240521T184328Z
LAST-MODIFIED:20240521T184328Z
UID:10004256-1743120000-1743206399@staging.lakeshrine.org
SUMMARY:Reserve to Visit
DESCRIPTION:Come be our guest today! https://staging.lakeshrine.org/meditation-gardens/ \nReservations open every Saturday at 10 AM PST for the week ahead. \nStart your reservation here:   https://staging.lakeshrine.org/guest-agreements/ \nComplete the steps. \nYou will receive an email confirmation. \nWhy reservations? https://staging.lakeshrine.org/why-do-we-require-reservations/
URL:https://staging.lakeshrine.org/event/reserve-to-visit/2025-03-28/
CATEGORIES:Meditation Gardens
END:VEVENT
BEGIN:VEVENT
DTSTART;VALUE=DATE:20250327
DTEND;VALUE=DATE:20250328
DTSTAMP:20260423T095408
CREATED:20240521T184328Z
LAST-MODIFIED:20240521T184328Z
UID:10004255-1743033600-1743119999@staging.lakeshrine.org
SUMMARY:Reserve to Visit
DESCRIPTION:Come be our guest today! https://staging.lakeshrine.org/meditation-gardens/ \nReservations open every Saturday at 10 AM PST for the week ahead. \nStart your reservation here:   https://staging.lakeshrine.org/guest-agreements/ \nComplete the steps. \nYou will receive an email confirmation. \nWhy reservations? https://staging.lakeshrine.org/why-do-we-require-reservations/
URL:https://staging.lakeshrine.org/event/reserve-to-visit/2025-03-27/
CATEGORIES:Meditation Gardens
END:VEVENT
BEGIN:VEVENT
DTSTART;VALUE=DATE:20250326
DTEND;VALUE=DATE:20250327
DTSTAMP:20260423T095408
CREATED:20240521T184328Z
LAST-MODIFIED:20240521T184328Z
UID:10004254-1742947200-1743033599@staging.lakeshrine.org
SUMMARY:Reserve to Visit
DESCRIPTION:Come be our guest today! https://staging.lakeshrine.org/meditation-gardens/ \nReservations open every Saturday at 10 AM PST for the week ahead. \nStart your reservation here:   https://staging.lakeshrine.org/guest-agreements/ \nComplete the steps. \nYou will receive an email confirmation. \nWhy reservations? https://staging.lakeshrine.org/why-do-we-require-reservations/
URL:https://staging.lakeshrine.org/event/reserve-to-visit/2025-03-26/
CATEGORIES:Meditation Gardens
END:VEVENT
BEGIN:VEVENT
DTSTART;TZID=America/Los_Angeles:20250325T190000
DTEND;TZID=America/Los_Angeles:20250325T210000
DTSTAMP:20260423T095408
CREATED:20240509T005646Z
LAST-MODIFIED:20240509T010129Z
UID:10001164-1742929200-1742936400@staging.lakeshrine.org
SUMMARY:Lake Shrine Kriyaban Disciples
DESCRIPTION:  \nWe are on Summer Recess!  Join us at Convocation! \n  \nParamahansa Yogananda\, photographed on August 20\, 1950\, at the dedication of Self-Realization Fellowship Lake Shrine\, Pacific Palisades\, CA. \n  \n  \n 
URL:https://staging.lakeshrine.org/event/lake-shrine-kriyaban-disciples-8/2025-03-25/
CATEGORIES:Meditations & Inspirational Services,Minister-led Events,Other Events
END:VEVENT
BEGIN:VEVENT
DTSTART;VALUE=DATE:20250325
DTEND;VALUE=DATE:20250326
DTSTAMP:20260423T095408
CREATED:20230315T180157Z
LAST-MODIFIED:20240515T195237Z
UID:10001568-1742860800-1742947199@staging.lakeshrine.org
SUMMARY:Lake Shrine Closed
DESCRIPTION:Lake Shrine is closed today. \nReserve to visit: https://staging.lakeshrine.org/guest-agreements/ \nOr join us on Sunday morning in our temple!  Then meditate in the gardens! \nNo reservations are required on Sunday mornings!
URL:https://staging.lakeshrine.org/event/lake-shrine-grounds-and-temple-closed/2025-03-25/
CATEGORIES:Closures
END:VEVENT
BEGIN:VEVENT
DTSTART;VALUE=DATE:20250324
DTEND;VALUE=DATE:20250325
DTSTAMP:20260423T095408
CREATED:20230315T180157Z
LAST-MODIFIED:20240515T195237Z
UID:10001567-1742774400-1742860799@staging.lakeshrine.org
SUMMARY:Lake Shrine Closed
DESCRIPTION:Lake Shrine is closed today. \nReserve to visit: https://staging.lakeshrine.org/guest-agreements/ \nOr join us on Sunday morning in our temple!  Then meditate in the gardens! \nNo reservations are required on Sunday mornings!
URL:https://staging.lakeshrine.org/event/lake-shrine-grounds-and-temple-closed/2025-03-24/
CATEGORIES:Closures
END:VEVENT
BEGIN:VEVENT
DTSTART;VALUE=DATE:20250323
DTEND;VALUE=DATE:20250324
DTSTAMP:20260423T095408
CREATED:20240524T210958Z
LAST-MODIFIED:20240605T204542Z
UID:10003864-1742688000-1742774399@staging.lakeshrine.org
SUMMARY:Sunday Events
DESCRIPTION:Inspirational Service: 9 AM – 10 AM \nTemple gate opens at 8:15 AM.\nParking is available ONLY at the Temple level.\nNo Sunday School offered for this service \nInspirational Service: 11 AM – 12 PM\n\nParking is available at the Temple and Lake from 10:15 AM.\nSunday School is offered during this service.\nQuestions: https://staging.lakeshrine.org/sunday-school/ \nThe Meditation Gardens open at noon\, no reservations required! \n  \nCurious about meditation?\nTry a 30-minute guided meditation in the Windmill Chapel at 2 PM \nVisit our meditation gardens during the week and bring a friend! Our “reserve to visit” guest program is free and keeps the gardens safe and sacred. To reserve:  https://staging.lakeshrine.org/guest-agreements/ \n  \n  \nEvening Meditation with Devotional Chanting: 6 PM – 9 PM \n \n  \n5:40 PM Energization Exercises in the Temple Courtyard\n6 PM Meditation Begins\n9 PM Meditation Ends \n  \n  \nNew to Lake Shrine?\nWelcome!\nWe would love to connect with you!\nStop by the Welcome Table in the foyer!\nWe can answer your questions!
URL:https://staging.lakeshrine.org/event/sunday-events-with-pics-draft-2/2025-03-23/
LOCATION:Lake Shrine Temple\, Lake Shrine 17080 Sunset Blvd.\, Pacific Palisades\, CA\, 90272\, United States
CATEGORIES:Meditations & Inspirational Services
END:VEVENT
BEGIN:VEVENT
DTSTART;VALUE=DATE:20250322
DTEND;VALUE=DATE:20250323
DTSTAMP:20260423T095408
CREATED:20240521T184328Z
LAST-MODIFIED:20240521T184328Z
UID:10004253-1742601600-1742687999@staging.lakeshrine.org
SUMMARY:Reserve to Visit
DESCRIPTION:Come be our guest today! https://staging.lakeshrine.org/meditation-gardens/ \nReservations open every Saturday at 10 AM PST for the week ahead. \nStart your reservation here:   https://staging.lakeshrine.org/guest-agreements/ \nComplete the steps. \nYou will receive an email confirmation. \nWhy reservations? https://staging.lakeshrine.org/why-do-we-require-reservations/
URL:https://staging.lakeshrine.org/event/reserve-to-visit/2025-03-22/
CATEGORIES:Meditation Gardens
END:VEVENT
BEGIN:VEVENT
DTSTART;VALUE=DATE:20250321
DTEND;VALUE=DATE:20250322
DTSTAMP:20260423T095408
CREATED:20240521T184328Z
LAST-MODIFIED:20240521T184328Z
UID:10004252-1742515200-1742601599@staging.lakeshrine.org
SUMMARY:Reserve to Visit
DESCRIPTION:Come be our guest today! https://staging.lakeshrine.org/meditation-gardens/ \nReservations open every Saturday at 10 AM PST for the week ahead. \nStart your reservation here:   https://staging.lakeshrine.org/guest-agreements/ \nComplete the steps. \nYou will receive an email confirmation. \nWhy reservations? https://staging.lakeshrine.org/why-do-we-require-reservations/
URL:https://staging.lakeshrine.org/event/reserve-to-visit/2025-03-21/
CATEGORIES:Meditation Gardens
END:VEVENT
BEGIN:VEVENT
DTSTART;VALUE=DATE:20250320
DTEND;VALUE=DATE:20250321
DTSTAMP:20260423T095408
CREATED:20240521T184328Z
LAST-MODIFIED:20240521T184328Z
UID:10004251-1742428800-1742515199@staging.lakeshrine.org
SUMMARY:Reserve to Visit
DESCRIPTION:Come be our guest today! https://staging.lakeshrine.org/meditation-gardens/ \nReservations open every Saturday at 10 AM PST for the week ahead. \nStart your reservation here:   https://staging.lakeshrine.org/guest-agreements/ \nComplete the steps. \nYou will receive an email confirmation. \nWhy reservations? https://staging.lakeshrine.org/why-do-we-require-reservations/
URL:https://staging.lakeshrine.org/event/reserve-to-visit/2025-03-20/
CATEGORIES:Meditation Gardens
END:VEVENT
BEGIN:VEVENT
DTSTART;VALUE=DATE:20250319
DTEND;VALUE=DATE:20250320
DTSTAMP:20260423T095408
CREATED:20240521T184328Z
LAST-MODIFIED:20240521T184328Z
UID:10004250-1742342400-1742428799@staging.lakeshrine.org
SUMMARY:Reserve to Visit
DESCRIPTION:Come be our guest today! https://staging.lakeshrine.org/meditation-gardens/ \nReservations open every Saturday at 10 AM PST for the week ahead. \nStart your reservation here:   https://staging.lakeshrine.org/guest-agreements/ \nComplete the steps. \nYou will receive an email confirmation. \nWhy reservations? https://staging.lakeshrine.org/why-do-we-require-reservations/
URL:https://staging.lakeshrine.org/event/reserve-to-visit/2025-03-19/
CATEGORIES:Meditation Gardens
END:VEVENT
BEGIN:VEVENT
DTSTART;VALUE=DATE:20250318
DTEND;VALUE=DATE:20250319
DTSTAMP:20260423T095408
CREATED:20230315T180157Z
LAST-MODIFIED:20240515T195237Z
UID:10001566-1742256000-1742342399@staging.lakeshrine.org
SUMMARY:Lake Shrine Closed
DESCRIPTION:Lake Shrine is closed today. \nReserve to visit: https://staging.lakeshrine.org/guest-agreements/ \nOr join us on Sunday morning in our temple!  Then meditate in the gardens! \nNo reservations are required on Sunday mornings!
URL:https://staging.lakeshrine.org/event/lake-shrine-grounds-and-temple-closed/2025-03-18/
CATEGORIES:Closures
END:VEVENT
BEGIN:VEVENT
DTSTART;VALUE=DATE:20250317
DTEND;VALUE=DATE:20250318
DTSTAMP:20260423T095408
CREATED:20230315T180157Z
LAST-MODIFIED:20240515T195237Z
UID:10001565-1742169600-1742255999@staging.lakeshrine.org
SUMMARY:Lake Shrine Closed
DESCRIPTION:Lake Shrine is closed today. \nReserve to visit: https://staging.lakeshrine.org/guest-agreements/ \nOr join us on Sunday morning in our temple!  Then meditate in the gardens! \nNo reservations are required on Sunday mornings!
URL:https://staging.lakeshrine.org/event/lake-shrine-grounds-and-temple-closed/2025-03-17/
CATEGORIES:Closures
END:VEVENT
BEGIN:VEVENT
DTSTART;VALUE=DATE:20250316
DTEND;VALUE=DATE:20250317
DTSTAMP:20260423T095408
CREATED:20240524T210958Z
LAST-MODIFIED:20240605T204542Z
UID:10003863-1742083200-1742169599@staging.lakeshrine.org
SUMMARY:Sunday Events
DESCRIPTION:Inspirational Service: 9 AM – 10 AM \nTemple gate opens at 8:15 AM.\nParking is available ONLY at the Temple level.\nNo Sunday School offered for this service \nInspirational Service: 11 AM – 12 PM\n\nParking is available at the Temple and Lake from 10:15 AM.\nSunday School is offered during this service.\nQuestions: https://staging.lakeshrine.org/sunday-school/ \nThe Meditation Gardens open at noon\, no reservations required! \n  \nCurious about meditation?\nTry a 30-minute guided meditation in the Windmill Chapel at 2 PM \nVisit our meditation gardens during the week and bring a friend! Our “reserve to visit” guest program is free and keeps the gardens safe and sacred. To reserve:  https://staging.lakeshrine.org/guest-agreements/ \n  \n  \nEvening Meditation with Devotional Chanting: 6 PM – 9 PM \n \n  \n5:40 PM Energization Exercises in the Temple Courtyard\n6 PM Meditation Begins\n9 PM Meditation Ends \n  \n  \nNew to Lake Shrine?\nWelcome!\nWe would love to connect with you!\nStop by the Welcome Table in the foyer!\nWe can answer your questions!
URL:https://staging.lakeshrine.org/event/sunday-events-with-pics-draft-2/2025-03-16/
LOCATION:Lake Shrine Temple\, Lake Shrine 17080 Sunset Blvd.\, Pacific Palisades\, CA\, 90272\, United States
CATEGORIES:Meditations & Inspirational Services
END:VEVENT
BEGIN:VEVENT
DTSTART;VALUE=DATE:20250315
DTEND;VALUE=DATE:20250316
DTSTAMP:20260423T095408
CREATED:20240521T184328Z
LAST-MODIFIED:20240521T184328Z
UID:10004249-1741996800-1742083199@staging.lakeshrine.org
SUMMARY:Reserve to Visit
DESCRIPTION:Come be our guest today! https://staging.lakeshrine.org/meditation-gardens/ \nReservations open every Saturday at 10 AM PST for the week ahead. \nStart your reservation here:   https://staging.lakeshrine.org/guest-agreements/ \nComplete the steps. \nYou will receive an email confirmation. \nWhy reservations? https://staging.lakeshrine.org/why-do-we-require-reservations/
URL:https://staging.lakeshrine.org/event/reserve-to-visit/2025-03-15/
CATEGORIES:Meditation Gardens
END:VEVENT
BEGIN:VEVENT
DTSTART;VALUE=DATE:20250314
DTEND;VALUE=DATE:20250315
DTSTAMP:20260423T095408
CREATED:20240521T184328Z
LAST-MODIFIED:20240521T184328Z
UID:10004248-1741910400-1741996799@staging.lakeshrine.org
SUMMARY:Reserve to Visit
DESCRIPTION:Come be our guest today! https://staging.lakeshrine.org/meditation-gardens/ \nReservations open every Saturday at 10 AM PST for the week ahead. \nStart your reservation here:   https://staging.lakeshrine.org/guest-agreements/ \nComplete the steps. \nYou will receive an email confirmation. \nWhy reservations? https://staging.lakeshrine.org/why-do-we-require-reservations/
URL:https://staging.lakeshrine.org/event/reserve-to-visit/2025-03-14/
CATEGORIES:Meditation Gardens
END:VEVENT
BEGIN:VEVENT
DTSTART;VALUE=DATE:20250313
DTEND;VALUE=DATE:20250314
DTSTAMP:20260423T095408
CREATED:20240521T184328Z
LAST-MODIFIED:20240521T184328Z
UID:10004247-1741824000-1741910399@staging.lakeshrine.org
SUMMARY:Reserve to Visit
DESCRIPTION:Come be our guest today! https://staging.lakeshrine.org/meditation-gardens/ \nReservations open every Saturday at 10 AM PST for the week ahead. \nStart your reservation here:   https://staging.lakeshrine.org/guest-agreements/ \nComplete the steps. \nYou will receive an email confirmation. \nWhy reservations? https://staging.lakeshrine.org/why-do-we-require-reservations/
URL:https://staging.lakeshrine.org/event/reserve-to-visit/2025-03-13/
CATEGORIES:Meditation Gardens
END:VEVENT
BEGIN:VEVENT
DTSTART;VALUE=DATE:20250312
DTEND;VALUE=DATE:20250313
DTSTAMP:20260423T095408
CREATED:20240521T184328Z
LAST-MODIFIED:20240521T184328Z
UID:10004246-1741737600-1741823999@staging.lakeshrine.org
SUMMARY:Reserve to Visit
DESCRIPTION:Come be our guest today! https://staging.lakeshrine.org/meditation-gardens/ \nReservations open every Saturday at 10 AM PST for the week ahead. \nStart your reservation here:   https://staging.lakeshrine.org/guest-agreements/ \nComplete the steps. \nYou will receive an email confirmation. \nWhy reservations? https://staging.lakeshrine.org/why-do-we-require-reservations/
URL:https://staging.lakeshrine.org/event/reserve-to-visit/2025-03-12/
CATEGORIES:Meditation Gardens
END:VEVENT
BEGIN:VEVENT
DTSTART;VALUE=DATE:20250311
DTEND;VALUE=DATE:20250312
DTSTAMP:20260423T095408
CREATED:20230315T180157Z
LAST-MODIFIED:20240515T195237Z
UID:10000211-1741651200-1741737599@staging.lakeshrine.org
SUMMARY:Lake Shrine Closed
DESCRIPTION:Lake Shrine is closed today. \nReserve to visit: https://staging.lakeshrine.org/guest-agreements/ \nOr join us on Sunday morning in our temple!  Then meditate in the gardens! \nNo reservations are required on Sunday mornings!
URL:https://staging.lakeshrine.org/event/lake-shrine-grounds-and-temple-closed/2025-03-11/
CATEGORIES:Closures
END:VEVENT
BEGIN:VEVENT
DTSTART;VALUE=DATE:20250310
DTEND;VALUE=DATE:20250311
DTSTAMP:20260423T095408
CREATED:20230315T180157Z
LAST-MODIFIED:20240515T195237Z
UID:10000210-1741564800-1741651199@staging.lakeshrine.org
SUMMARY:Lake Shrine Closed
DESCRIPTION:Lake Shrine is closed today. \nReserve to visit: https://staging.lakeshrine.org/guest-agreements/ \nOr join us on Sunday morning in our temple!  Then meditate in the gardens! \nNo reservations are required on Sunday mornings!
URL:https://staging.lakeshrine.org/event/lake-shrine-grounds-and-temple-closed/2025-03-10/
CATEGORIES:Closures
END:VEVENT
BEGIN:VEVENT
DTSTART;TZID=America/Los_Angeles:20250309T200000
DTEND;TZID=America/Los_Angeles:20250309T213000
DTSTAMP:20260423T095408
CREATED:20230315T180812Z
LAST-MODIFIED:20230410T210519Z
UID:10001560-1741550400-1741555800@staging.lakeshrine.org
SUMMARY:Swami Sri Yukteswar Mahasamadhi Commemoration Service
DESCRIPTION:A commemoration service to honor Swami Sri Yukteswar’s Mahasamadhi will be held on March 9th. Please bring a flower and a free will offering in an envelope as a symbol of your devotion to the service.
URL:https://staging.lakeshrine.org/event/swami-sri-yukteswar-mahasamadhi-commemoration-service/2025-03-09/
LOCATION:Lake Shrine Temple\, Lake Shrine 17080 Sunset Blvd.\, Pacific Palisades\, CA\, 90272\, United States
CATEGORIES:Commemoration Services
END:VEVENT
BEGIN:VEVENT
DTSTART;VALUE=DATE:20250309
DTEND;VALUE=DATE:20250310
DTSTAMP:20260423T095408
CREATED:20240524T210958Z
LAST-MODIFIED:20240605T204542Z
UID:10003862-1741478400-1741564799@staging.lakeshrine.org
SUMMARY:Sunday Events
DESCRIPTION:Inspirational Service: 9 AM – 10 AM \nTemple gate opens at 8:15 AM.\nParking is available ONLY at the Temple level.\nNo Sunday School offered for this service \nInspirational Service: 11 AM – 12 PM\n\nParking is available at the Temple and Lake from 10:15 AM.\nSunday School is offered during this service.\nQuestions: https://staging.lakeshrine.org/sunday-school/ \nThe Meditation Gardens open at noon\, no reservations required! \n  \nCurious about meditation?\nTry a 30-minute guided meditation in the Windmill Chapel at 2 PM \nVisit our meditation gardens during the week and bring a friend! Our “reserve to visit” guest program is free and keeps the gardens safe and sacred. To reserve:  https://staging.lakeshrine.org/guest-agreements/ \n  \n  \nEvening Meditation with Devotional Chanting: 6 PM – 9 PM \n \n  \n5:40 PM Energization Exercises in the Temple Courtyard\n6 PM Meditation Begins\n9 PM Meditation Ends \n  \n  \nNew to Lake Shrine?\nWelcome!\nWe would love to connect with you!\nStop by the Welcome Table in the foyer!\nWe can answer your questions!
URL:https://staging.lakeshrine.org/event/sunday-events-with-pics-draft-2/2025-03-09/
LOCATION:Lake Shrine Temple\, Lake Shrine 17080 Sunset Blvd.\, Pacific Palisades\, CA\, 90272\, United States
CATEGORIES:Meditations & Inspirational Services
END:VEVENT
BEGIN:VEVENT
DTSTART;VALUE=DATE:20250308
DTEND;VALUE=DATE:20250309
DTSTAMP:20260423T095408
CREATED:20240521T184328Z
LAST-MODIFIED:20240521T184328Z
UID:10004245-1741392000-1741478399@staging.lakeshrine.org
SUMMARY:Reserve to Visit
DESCRIPTION:Come be our guest today! https://staging.lakeshrine.org/meditation-gardens/ \nReservations open every Saturday at 10 AM PST for the week ahead. \nStart your reservation here:   https://staging.lakeshrine.org/guest-agreements/ \nComplete the steps. \nYou will receive an email confirmation. \nWhy reservations? https://staging.lakeshrine.org/why-do-we-require-reservations/
URL:https://staging.lakeshrine.org/event/reserve-to-visit/2025-03-08/
CATEGORIES:Meditation Gardens
END:VEVENT
END:VCALENDAR