BEGIN:VCALENDAR
VERSION:2.0
PRODID:-//Self-Realization Fellowship Lake Shrine - ECPv6.6.1//NONSGML v1.0//EN
CALSCALE:GREGORIAN
METHOD:PUBLISH
X-WR-CALNAME:Self-Realization Fellowship Lake Shrine
X-ORIGINAL-URL:https://staging.lakeshrine.org
X-WR-CALDESC:Events for Self-Realization Fellowship Lake Shrine
REFRESH-INTERVAL;VALUE=DURATION:PT1H
X-Robots-Tag:noindex
X-PUBLISHED-TTL:PT1H
BEGIN:VTIMEZONE
TZID:America/Los_Angeles
BEGIN:DAYLIGHT
TZOFFSETFROM:-0800
TZOFFSETTO:-0700
TZNAME:PDT
DTSTART:20250309T100000
END:DAYLIGHT
BEGIN:STANDARD
TZOFFSETFROM:-0700
TZOFFSETTO:-0800
TZNAME:PST
DTSTART:20251102T090000
END:STANDARD
END:VTIMEZONE
BEGIN:VEVENT
DTSTART;VALUE=DATE:20250522
DTEND;VALUE=DATE:20250523
DTSTAMP:20260423T023036
CREATED:20240521T184328Z
LAST-MODIFIED:20240521T184328Z
UID:10004287-1747872000-1747958399@staging.lakeshrine.org
SUMMARY:Reserve to Visit
DESCRIPTION:Come be our guest today! https://staging.lakeshrine.org/meditation-gardens/ \nReservations open every Saturday at 10 AM PST for the week ahead. \nStart your reservation here:   https://staging.lakeshrine.org/guest-agreements/ \nComplete the steps. \nYou will receive an email confirmation. \nWhy reservations? https://staging.lakeshrine.org/why-do-we-require-reservations/
URL:https://staging.lakeshrine.org/event/reserve-to-visit/2025-05-22/
LOCATION:CA
CATEGORIES:Meditation Gardens
END:VEVENT
BEGIN:VEVENT
DTSTART;VALUE=DATE:20250521
DTEND;VALUE=DATE:20250522
DTSTAMP:20260423T023036
CREATED:20240521T184328Z
LAST-MODIFIED:20240521T184328Z
UID:10004286-1747785600-1747871999@staging.lakeshrine.org
SUMMARY:Reserve to Visit
DESCRIPTION:Come be our guest today! https://staging.lakeshrine.org/meditation-gardens/ \nReservations open every Saturday at 10 AM PST for the week ahead. \nStart your reservation here:   https://staging.lakeshrine.org/guest-agreements/ \nComplete the steps. \nYou will receive an email confirmation. \nWhy reservations? https://staging.lakeshrine.org/why-do-we-require-reservations/
URL:https://staging.lakeshrine.org/event/reserve-to-visit/2025-05-21/
LOCATION:CA
CATEGORIES:Meditation Gardens
END:VEVENT
BEGIN:VEVENT
DTSTART;VALUE=DATE:20250520
DTEND;VALUE=DATE:20250521
DTSTAMP:20260423T023036
CREATED:20230315T180157Z
LAST-MODIFIED:20240515T195237Z
UID:10001745-1747699200-1747785599@staging.lakeshrine.org
SUMMARY:Lake Shrine Closed
DESCRIPTION:Lake Shrine is closed today. \nReserve to visit: https://staging.lakeshrine.org/guest-agreements/ \nOr join us on Sunday morning in our temple!  Then meditate in the gardens! \nNo reservations are required on Sunday mornings!
URL:https://staging.lakeshrine.org/event/lake-shrine-grounds-and-temple-closed/2025-05-20/
LOCATION:CA
CATEGORIES:Closures
END:VEVENT
BEGIN:VEVENT
DTSTART;VALUE=DATE:20250519
DTEND;VALUE=DATE:20250520
DTSTAMP:20260423T023036
CREATED:20230315T180157Z
LAST-MODIFIED:20240515T195237Z
UID:10001744-1747612800-1747699199@staging.lakeshrine.org
SUMMARY:Lake Shrine Closed
DESCRIPTION:Lake Shrine is closed today. \nReserve to visit: https://staging.lakeshrine.org/guest-agreements/ \nOr join us on Sunday morning in our temple!  Then meditate in the gardens! \nNo reservations are required on Sunday mornings!
URL:https://staging.lakeshrine.org/event/lake-shrine-grounds-and-temple-closed/2025-05-19/
LOCATION:CA
CATEGORIES:Closures
END:VEVENT
BEGIN:VEVENT
DTSTART;VALUE=DATE:20250518
DTEND;VALUE=DATE:20250519
DTSTAMP:20260423T023036
CREATED:20240524T210958Z
LAST-MODIFIED:20240605T204542Z
UID:10003872-1747526400-1747612799@staging.lakeshrine.org
SUMMARY:Sunday Events
DESCRIPTION:Inspirational Service: 9 AM – 10 AM \nTemple gate opens at 8:15 AM.\nParking is available ONLY at the Temple level.\nNo Sunday School offered for this service \nInspirational Service: 11 AM – 12 PM\n\nParking is available at the Temple and Lake from 10:15 AM.\nSunday School is offered during this service.\nQuestions: https://staging.lakeshrine.org/sunday-school/ \nThe Meditation Gardens open at noon\, no reservations required! \n  \nCurious about meditation?\nTry a 30-minute guided meditation in the Windmill Chapel at 2 PM \nVisit our meditation gardens during the week and bring a friend! Our “reserve to visit” guest program is free and keeps the gardens safe and sacred. To reserve:  https://staging.lakeshrine.org/guest-agreements/ \n  \n  \nEvening Meditation with Devotional Chanting: 6 PM – 9 PM \n \n  \n5:40 PM Energization Exercises in the Temple Courtyard\n6 PM Meditation Begins\n9 PM Meditation Ends \n  \n  \nNew to Lake Shrine?\nWelcome!\nWe would love to connect with you!\nStop by the Welcome Table in the foyer!\nWe can answer your questions!
URL:https://staging.lakeshrine.org/event/sunday-events-with-pics-draft-2/2025-05-18/
LOCATION:Lake Shrine Temple\, Lake Shrine 17080 Sunset Blvd.\, Pacific Palisades\, CA\, 90272\, United States
CATEGORIES:Meditations & Inspirational Services
END:VEVENT
BEGIN:VEVENT
DTSTART;VALUE=DATE:20250517
DTEND;VALUE=DATE:20250518
DTSTAMP:20260423T023036
CREATED:20240521T184328Z
LAST-MODIFIED:20240521T184328Z
UID:10004285-1747440000-1747526399@staging.lakeshrine.org
SUMMARY:Reserve to Visit
DESCRIPTION:Come be our guest today! https://staging.lakeshrine.org/meditation-gardens/ \nReservations open every Saturday at 10 AM PST for the week ahead. \nStart your reservation here:   https://staging.lakeshrine.org/guest-agreements/ \nComplete the steps. \nYou will receive an email confirmation. \nWhy reservations? https://staging.lakeshrine.org/why-do-we-require-reservations/
URL:https://staging.lakeshrine.org/event/reserve-to-visit/2025-05-17/
LOCATION:CA
CATEGORIES:Meditation Gardens
END:VEVENT
BEGIN:VEVENT
DTSTART;VALUE=DATE:20250516
DTEND;VALUE=DATE:20250517
DTSTAMP:20260423T023036
CREATED:20240521T184328Z
LAST-MODIFIED:20240521T184328Z
UID:10004284-1747353600-1747439999@staging.lakeshrine.org
SUMMARY:Reserve to Visit
DESCRIPTION:Come be our guest today! https://staging.lakeshrine.org/meditation-gardens/ \nReservations open every Saturday at 10 AM PST for the week ahead. \nStart your reservation here:   https://staging.lakeshrine.org/guest-agreements/ \nComplete the steps. \nYou will receive an email confirmation. \nWhy reservations? https://staging.lakeshrine.org/why-do-we-require-reservations/
URL:https://staging.lakeshrine.org/event/reserve-to-visit/2025-05-16/
LOCATION:CA
CATEGORIES:Meditation Gardens
END:VEVENT
BEGIN:VEVENT
DTSTART;VALUE=DATE:20250515
DTEND;VALUE=DATE:20250516
DTSTAMP:20260423T023036
CREATED:20240521T184328Z
LAST-MODIFIED:20240521T184328Z
UID:10004283-1747267200-1747353599@staging.lakeshrine.org
SUMMARY:Reserve to Visit
DESCRIPTION:Come be our guest today! https://staging.lakeshrine.org/meditation-gardens/ \nReservations open every Saturday at 10 AM PST for the week ahead. \nStart your reservation here:   https://staging.lakeshrine.org/guest-agreements/ \nComplete the steps. \nYou will receive an email confirmation. \nWhy reservations? https://staging.lakeshrine.org/why-do-we-require-reservations/
URL:https://staging.lakeshrine.org/event/reserve-to-visit/2025-05-15/
LOCATION:CA
CATEGORIES:Meditation Gardens
END:VEVENT
BEGIN:VEVENT
DTSTART;VALUE=DATE:20250514
DTEND;VALUE=DATE:20250515
DTSTAMP:20260423T023036
CREATED:20240521T184328Z
LAST-MODIFIED:20240521T184328Z
UID:10004282-1747180800-1747267199@staging.lakeshrine.org
SUMMARY:Reserve to Visit
DESCRIPTION:Come be our guest today! https://staging.lakeshrine.org/meditation-gardens/ \nReservations open every Saturday at 10 AM PST for the week ahead. \nStart your reservation here:   https://staging.lakeshrine.org/guest-agreements/ \nComplete the steps. \nYou will receive an email confirmation. \nWhy reservations? https://staging.lakeshrine.org/why-do-we-require-reservations/
URL:https://staging.lakeshrine.org/event/reserve-to-visit/2025-05-14/
LOCATION:CA
CATEGORIES:Meditation Gardens
END:VEVENT
BEGIN:VEVENT
DTSTART;VALUE=DATE:20250513
DTEND;VALUE=DATE:20250514
DTSTAMP:20260423T023036
CREATED:20230315T180157Z
LAST-MODIFIED:20240515T195237Z
UID:10001743-1747094400-1747180799@staging.lakeshrine.org
SUMMARY:Lake Shrine Closed
DESCRIPTION:Lake Shrine is closed today. \nReserve to visit: https://staging.lakeshrine.org/guest-agreements/ \nOr join us on Sunday morning in our temple!  Then meditate in the gardens! \nNo reservations are required on Sunday mornings!
URL:https://staging.lakeshrine.org/event/lake-shrine-grounds-and-temple-closed/2025-05-13/
LOCATION:CA
CATEGORIES:Closures
END:VEVENT
BEGIN:VEVENT
DTSTART;VALUE=DATE:20250512
DTEND;VALUE=DATE:20250513
DTSTAMP:20260423T023036
CREATED:20230315T180157Z
LAST-MODIFIED:20240515T195237Z
UID:10001742-1747008000-1747094399@staging.lakeshrine.org
SUMMARY:Lake Shrine Closed
DESCRIPTION:Lake Shrine is closed today. \nReserve to visit: https://staging.lakeshrine.org/guest-agreements/ \nOr join us on Sunday morning in our temple!  Then meditate in the gardens! \nNo reservations are required on Sunday mornings!
URL:https://staging.lakeshrine.org/event/lake-shrine-grounds-and-temple-closed/2025-05-12/
LOCATION:CA
CATEGORIES:Closures
END:VEVENT
BEGIN:VEVENT
DTSTART;VALUE=DATE:20250511
DTEND;VALUE=DATE:20250512
DTSTAMP:20260423T023036
CREATED:20240524T210958Z
LAST-MODIFIED:20240605T204542Z
UID:10003871-1746921600-1747007999@staging.lakeshrine.org
SUMMARY:Sunday Events
DESCRIPTION:Inspirational Service: 9 AM – 10 AM \nTemple gate opens at 8:15 AM.\nParking is available ONLY at the Temple level.\nNo Sunday School offered for this service \nInspirational Service: 11 AM – 12 PM\n\nParking is available at the Temple and Lake from 10:15 AM.\nSunday School is offered during this service.\nQuestions: https://staging.lakeshrine.org/sunday-school/ \nThe Meditation Gardens open at noon\, no reservations required! \n  \nCurious about meditation?\nTry a 30-minute guided meditation in the Windmill Chapel at 2 PM \nVisit our meditation gardens during the week and bring a friend! Our “reserve to visit” guest program is free and keeps the gardens safe and sacred. To reserve:  https://staging.lakeshrine.org/guest-agreements/ \n  \n  \nEvening Meditation with Devotional Chanting: 6 PM – 9 PM \n \n  \n5:40 PM Energization Exercises in the Temple Courtyard\n6 PM Meditation Begins\n9 PM Meditation Ends \n  \n  \nNew to Lake Shrine?\nWelcome!\nWe would love to connect with you!\nStop by the Welcome Table in the foyer!\nWe can answer your questions!
URL:https://staging.lakeshrine.org/event/sunday-events-with-pics-draft-2/2025-05-11/
LOCATION:Lake Shrine Temple\, Lake Shrine 17080 Sunset Blvd.\, Pacific Palisades\, CA\, 90272\, United States
CATEGORIES:Meditations & Inspirational Services
END:VEVENT
BEGIN:VEVENT
DTSTART;VALUE=DATE:20250510
DTEND;VALUE=DATE:20250511
DTSTAMP:20260423T023036
CREATED:20240521T184328Z
LAST-MODIFIED:20240521T184328Z
UID:10004281-1746835200-1746921599@staging.lakeshrine.org
SUMMARY:Reserve to Visit
DESCRIPTION:Come be our guest today! https://staging.lakeshrine.org/meditation-gardens/ \nReservations open every Saturday at 10 AM PST for the week ahead. \nStart your reservation here:   https://staging.lakeshrine.org/guest-agreements/ \nComplete the steps. \nYou will receive an email confirmation. \nWhy reservations? https://staging.lakeshrine.org/why-do-we-require-reservations/
URL:https://staging.lakeshrine.org/event/reserve-to-visit/2025-05-10/
LOCATION:CA
CATEGORIES:Meditation Gardens
END:VEVENT
BEGIN:VEVENT
DTSTART;VALUE=DATE:20250509
DTEND;VALUE=DATE:20250510
DTSTAMP:20260423T023036
CREATED:20240521T184328Z
LAST-MODIFIED:20240521T184328Z
UID:10004280-1746748800-1746835199@staging.lakeshrine.org
SUMMARY:Reserve to Visit
DESCRIPTION:Come be our guest today! https://staging.lakeshrine.org/meditation-gardens/ \nReservations open every Saturday at 10 AM PST for the week ahead. \nStart your reservation here:   https://staging.lakeshrine.org/guest-agreements/ \nComplete the steps. \nYou will receive an email confirmation. \nWhy reservations? https://staging.lakeshrine.org/why-do-we-require-reservations/
URL:https://staging.lakeshrine.org/event/reserve-to-visit/2025-05-09/
LOCATION:CA
CATEGORIES:Meditation Gardens
END:VEVENT
BEGIN:VEVENT
DTSTART;VALUE=DATE:20250508
DTEND;VALUE=DATE:20250509
DTSTAMP:20260423T023036
CREATED:20240521T184328Z
LAST-MODIFIED:20240521T184328Z
UID:10004279-1746662400-1746748799@staging.lakeshrine.org
SUMMARY:Reserve to Visit
DESCRIPTION:Come be our guest today! https://staging.lakeshrine.org/meditation-gardens/ \nReservations open every Saturday at 10 AM PST for the week ahead. \nStart your reservation here:   https://staging.lakeshrine.org/guest-agreements/ \nComplete the steps. \nYou will receive an email confirmation. \nWhy reservations? https://staging.lakeshrine.org/why-do-we-require-reservations/
URL:https://staging.lakeshrine.org/event/reserve-to-visit/2025-05-08/
LOCATION:CA
CATEGORIES:Meditation Gardens
END:VEVENT
BEGIN:VEVENT
DTSTART;VALUE=DATE:20250507
DTEND;VALUE=DATE:20250508
DTSTAMP:20260423T023036
CREATED:20240521T184328Z
LAST-MODIFIED:20240521T184328Z
UID:10004278-1746576000-1746662399@staging.lakeshrine.org
SUMMARY:Reserve to Visit
DESCRIPTION:Come be our guest today! https://staging.lakeshrine.org/meditation-gardens/ \nReservations open every Saturday at 10 AM PST for the week ahead. \nStart your reservation here:   https://staging.lakeshrine.org/guest-agreements/ \nComplete the steps. \nYou will receive an email confirmation. \nWhy reservations? https://staging.lakeshrine.org/why-do-we-require-reservations/
URL:https://staging.lakeshrine.org/event/reserve-to-visit/2025-05-07/
LOCATION:CA
CATEGORIES:Meditation Gardens
END:VEVENT
BEGIN:VEVENT
DTSTART;VALUE=DATE:20250506
DTEND;VALUE=DATE:20250507
DTSTAMP:20260423T023036
CREATED:20230315T180157Z
LAST-MODIFIED:20240515T195237Z
UID:10001741-1746489600-1746575999@staging.lakeshrine.org
SUMMARY:Lake Shrine Closed
DESCRIPTION:Lake Shrine is closed today. \nReserve to visit: https://staging.lakeshrine.org/guest-agreements/ \nOr join us on Sunday morning in our temple!  Then meditate in the gardens! \nNo reservations are required on Sunday mornings!
URL:https://staging.lakeshrine.org/event/lake-shrine-grounds-and-temple-closed/2025-05-06/
LOCATION:CA
CATEGORIES:Closures
END:VEVENT
BEGIN:VEVENT
DTSTART;VALUE=DATE:20250505
DTEND;VALUE=DATE:20250506
DTSTAMP:20260423T023036
CREATED:20230315T180157Z
LAST-MODIFIED:20240515T195237Z
UID:10001740-1746403200-1746489599@staging.lakeshrine.org
SUMMARY:Lake Shrine Closed
DESCRIPTION:Lake Shrine is closed today. \nReserve to visit: https://staging.lakeshrine.org/guest-agreements/ \nOr join us on Sunday morning in our temple!  Then meditate in the gardens! \nNo reservations are required on Sunday mornings!
URL:https://staging.lakeshrine.org/event/lake-shrine-grounds-and-temple-closed/2025-05-05/
LOCATION:CA
CATEGORIES:Closures
END:VEVENT
BEGIN:VEVENT
DTSTART;VALUE=DATE:20250504
DTEND;VALUE=DATE:20250505
DTSTAMP:20260423T023036
CREATED:20240524T210958Z
LAST-MODIFIED:20240605T204542Z
UID:10003870-1746316800-1746403199@staging.lakeshrine.org
SUMMARY:Sunday Events
DESCRIPTION:Inspirational Service: 9 AM – 10 AM \nTemple gate opens at 8:15 AM.\nParking is available ONLY at the Temple level.\nNo Sunday School offered for this service \nInspirational Service: 11 AM – 12 PM\n\nParking is available at the Temple and Lake from 10:15 AM.\nSunday School is offered during this service.\nQuestions: https://staging.lakeshrine.org/sunday-school/ \nThe Meditation Gardens open at noon\, no reservations required! \n  \nCurious about meditation?\nTry a 30-minute guided meditation in the Windmill Chapel at 2 PM \nVisit our meditation gardens during the week and bring a friend! Our “reserve to visit” guest program is free and keeps the gardens safe and sacred. To reserve:  https://staging.lakeshrine.org/guest-agreements/ \n  \n  \nEvening Meditation with Devotional Chanting: 6 PM – 9 PM \n \n  \n5:40 PM Energization Exercises in the Temple Courtyard\n6 PM Meditation Begins\n9 PM Meditation Ends \n  \n  \nNew to Lake Shrine?\nWelcome!\nWe would love to connect with you!\nStop by the Welcome Table in the foyer!\nWe can answer your questions!
URL:https://staging.lakeshrine.org/event/sunday-events-with-pics-draft-2/2025-05-04/
LOCATION:Lake Shrine Temple\, Lake Shrine 17080 Sunset Blvd.\, Pacific Palisades\, CA\, 90272\, United States
CATEGORIES:Meditations & Inspirational Services
END:VEVENT
BEGIN:VEVENT
DTSTART;VALUE=DATE:20250503
DTEND;VALUE=DATE:20250504
DTSTAMP:20260423T023036
CREATED:20240521T184328Z
LAST-MODIFIED:20240521T184328Z
UID:10004277-1746230400-1746316799@staging.lakeshrine.org
SUMMARY:Reserve to Visit
DESCRIPTION:Come be our guest today! https://staging.lakeshrine.org/meditation-gardens/ \nReservations open every Saturday at 10 AM PST for the week ahead. \nStart your reservation here:   https://staging.lakeshrine.org/guest-agreements/ \nComplete the steps. \nYou will receive an email confirmation. \nWhy reservations? https://staging.lakeshrine.org/why-do-we-require-reservations/
URL:https://staging.lakeshrine.org/event/reserve-to-visit/2025-05-03/
LOCATION:CA
CATEGORIES:Meditation Gardens
END:VEVENT
BEGIN:VEVENT
DTSTART;VALUE=DATE:20250502
DTEND;VALUE=DATE:20250503
DTSTAMP:20260423T023036
CREATED:20240521T184328Z
LAST-MODIFIED:20240521T184328Z
UID:10004276-1746144000-1746230399@staging.lakeshrine.org
SUMMARY:Reserve to Visit
DESCRIPTION:Come be our guest today! https://staging.lakeshrine.org/meditation-gardens/ \nReservations open every Saturday at 10 AM PST for the week ahead. \nStart your reservation here:   https://staging.lakeshrine.org/guest-agreements/ \nComplete the steps. \nYou will receive an email confirmation. \nWhy reservations? https://staging.lakeshrine.org/why-do-we-require-reservations/
URL:https://staging.lakeshrine.org/event/reserve-to-visit/2025-05-02/
LOCATION:CA
CATEGORIES:Meditation Gardens
END:VEVENT
BEGIN:VEVENT
DTSTART;VALUE=DATE:20250501
DTEND;VALUE=DATE:20250502
DTSTAMP:20260423T023036
CREATED:20240521T184328Z
LAST-MODIFIED:20240521T184328Z
UID:10004275-1746057600-1746143999@staging.lakeshrine.org
SUMMARY:Reserve to Visit
DESCRIPTION:Come be our guest today! https://staging.lakeshrine.org/meditation-gardens/ \nReservations open every Saturday at 10 AM PST for the week ahead. \nStart your reservation here:   https://staging.lakeshrine.org/guest-agreements/ \nComplete the steps. \nYou will receive an email confirmation. \nWhy reservations? https://staging.lakeshrine.org/why-do-we-require-reservations/
URL:https://staging.lakeshrine.org/event/reserve-to-visit/2025-05-01/
LOCATION:CA
CATEGORIES:Meditation Gardens
END:VEVENT
BEGIN:VEVENT
DTSTART;VALUE=DATE:20250430
DTEND;VALUE=DATE:20250501
DTSTAMP:20260423T023036
CREATED:20240521T184328Z
LAST-MODIFIED:20240521T184328Z
UID:10004274-1745971200-1746057599@staging.lakeshrine.org
SUMMARY:Reserve to Visit
DESCRIPTION:Come be our guest today! https://staging.lakeshrine.org/meditation-gardens/ \nReservations open every Saturday at 10 AM PST for the week ahead. \nStart your reservation here:   https://staging.lakeshrine.org/guest-agreements/ \nComplete the steps. \nYou will receive an email confirmation. \nWhy reservations? https://staging.lakeshrine.org/why-do-we-require-reservations/
URL:https://staging.lakeshrine.org/event/reserve-to-visit/2025-04-30/
LOCATION:CA
CATEGORIES:Meditation Gardens
END:VEVENT
BEGIN:VEVENT
DTSTART;VALUE=DATE:20250429
DTEND;VALUE=DATE:20250430
DTSTAMP:20260423T023036
CREATED:20230315T180157Z
LAST-MODIFIED:20240515T195237Z
UID:10001739-1745884800-1745971199@staging.lakeshrine.org
SUMMARY:Lake Shrine Closed
DESCRIPTION:Lake Shrine is closed today. \nReserve to visit: https://staging.lakeshrine.org/guest-agreements/ \nOr join us on Sunday morning in our temple!  Then meditate in the gardens! \nNo reservations are required on Sunday mornings!
URL:https://staging.lakeshrine.org/event/lake-shrine-grounds-and-temple-closed/2025-04-29/
LOCATION:CA
CATEGORIES:Closures
END:VEVENT
BEGIN:VEVENT
DTSTART;VALUE=DATE:20250428
DTEND;VALUE=DATE:20250429
DTSTAMP:20260423T023036
CREATED:20230315T180157Z
LAST-MODIFIED:20240515T195237Z
UID:10001738-1745798400-1745884799@staging.lakeshrine.org
SUMMARY:Lake Shrine Closed
DESCRIPTION:Lake Shrine is closed today. \nReserve to visit: https://staging.lakeshrine.org/guest-agreements/ \nOr join us on Sunday morning in our temple!  Then meditate in the gardens! \nNo reservations are required on Sunday mornings!
URL:https://staging.lakeshrine.org/event/lake-shrine-grounds-and-temple-closed/2025-04-28/
LOCATION:CA
CATEGORIES:Closures
END:VEVENT
BEGIN:VEVENT
DTSTART;VALUE=DATE:20250427
DTEND;VALUE=DATE:20250428
DTSTAMP:20260423T023036
CREATED:20240524T210958Z
LAST-MODIFIED:20240605T204542Z
UID:10003869-1745712000-1745798399@staging.lakeshrine.org
SUMMARY:Sunday Events
DESCRIPTION:Inspirational Service: 9 AM – 10 AM \nTemple gate opens at 8:15 AM.\nParking is available ONLY at the Temple level.\nNo Sunday School offered for this service \nInspirational Service: 11 AM – 12 PM\n\nParking is available at the Temple and Lake from 10:15 AM.\nSunday School is offered during this service.\nQuestions: https://staging.lakeshrine.org/sunday-school/ \nThe Meditation Gardens open at noon\, no reservations required! \n  \nCurious about meditation?\nTry a 30-minute guided meditation in the Windmill Chapel at 2 PM \nVisit our meditation gardens during the week and bring a friend! Our “reserve to visit” guest program is free and keeps the gardens safe and sacred. To reserve:  https://staging.lakeshrine.org/guest-agreements/ \n  \n  \nEvening Meditation with Devotional Chanting: 6 PM – 9 PM \n \n  \n5:40 PM Energization Exercises in the Temple Courtyard\n6 PM Meditation Begins\n9 PM Meditation Ends \n  \n  \nNew to Lake Shrine?\nWelcome!\nWe would love to connect with you!\nStop by the Welcome Table in the foyer!\nWe can answer your questions!
URL:https://staging.lakeshrine.org/event/sunday-events-with-pics-draft-2/2025-04-27/
LOCATION:Lake Shrine Temple\, Lake Shrine 17080 Sunset Blvd.\, Pacific Palisades\, CA\, 90272\, United States
CATEGORIES:Meditations & Inspirational Services
END:VEVENT
BEGIN:VEVENT
DTSTART;VALUE=DATE:20250426
DTEND;VALUE=DATE:20250427
DTSTAMP:20260423T023036
CREATED:20240521T184328Z
LAST-MODIFIED:20240521T184328Z
UID:10004273-1745625600-1745711999@staging.lakeshrine.org
SUMMARY:Reserve to Visit
DESCRIPTION:Come be our guest today! https://staging.lakeshrine.org/meditation-gardens/ \nReservations open every Saturday at 10 AM PST for the week ahead. \nStart your reservation here:   https://staging.lakeshrine.org/guest-agreements/ \nComplete the steps. \nYou will receive an email confirmation. \nWhy reservations? https://staging.lakeshrine.org/why-do-we-require-reservations/
URL:https://staging.lakeshrine.org/event/reserve-to-visit/2025-04-26/
LOCATION:CA
CATEGORIES:Meditation Gardens
END:VEVENT
BEGIN:VEVENT
DTSTART;VALUE=DATE:20250425
DTEND;VALUE=DATE:20250426
DTSTAMP:20260423T023036
CREATED:20240521T184328Z
LAST-MODIFIED:20240521T184328Z
UID:10004272-1745539200-1745625599@staging.lakeshrine.org
SUMMARY:Reserve to Visit
DESCRIPTION:Come be our guest today! https://staging.lakeshrine.org/meditation-gardens/ \nReservations open every Saturday at 10 AM PST for the week ahead. \nStart your reservation here:   https://staging.lakeshrine.org/guest-agreements/ \nComplete the steps. \nYou will receive an email confirmation. \nWhy reservations? https://staging.lakeshrine.org/why-do-we-require-reservations/
URL:https://staging.lakeshrine.org/event/reserve-to-visit/2025-04-25/
LOCATION:CA
CATEGORIES:Meditation Gardens
END:VEVENT
BEGIN:VEVENT
DTSTART;VALUE=DATE:20250424
DTEND;VALUE=DATE:20250425
DTSTAMP:20260423T023036
CREATED:20240521T184328Z
LAST-MODIFIED:20240521T184328Z
UID:10004271-1745452800-1745539199@staging.lakeshrine.org
SUMMARY:Reserve to Visit
DESCRIPTION:Come be our guest today! https://staging.lakeshrine.org/meditation-gardens/ \nReservations open every Saturday at 10 AM PST for the week ahead. \nStart your reservation here:   https://staging.lakeshrine.org/guest-agreements/ \nComplete the steps. \nYou will receive an email confirmation. \nWhy reservations? https://staging.lakeshrine.org/why-do-we-require-reservations/
URL:https://staging.lakeshrine.org/event/reserve-to-visit/2025-04-24/
LOCATION:CA
CATEGORIES:Meditation Gardens
END:VEVENT
BEGIN:VEVENT
DTSTART;VALUE=DATE:20250423
DTEND;VALUE=DATE:20250424
DTSTAMP:20260423T023036
CREATED:20240521T184328Z
LAST-MODIFIED:20240521T184328Z
UID:10004270-1745366400-1745452799@staging.lakeshrine.org
SUMMARY:Reserve to Visit
DESCRIPTION:Come be our guest today! https://staging.lakeshrine.org/meditation-gardens/ \nReservations open every Saturday at 10 AM PST for the week ahead. \nStart your reservation here:   https://staging.lakeshrine.org/guest-agreements/ \nComplete the steps. \nYou will receive an email confirmation. \nWhy reservations? https://staging.lakeshrine.org/why-do-we-require-reservations/
URL:https://staging.lakeshrine.org/event/reserve-to-visit/2025-04-23/
LOCATION:CA
CATEGORIES:Meditation Gardens
END:VEVENT
END:VCALENDAR